FILENAME: O4510932.NWS.1123048.tif
QUADRANGLE_NAME: RAPIDS
QUADRANT: NW
WEST_LONGITUDE: -109 7 30.00000
EAST_LONGITUDE: -109 3 45.00000
NORTH_LATITUDE: 45 37 30.00000
SOUTH_LATITUDE: 45 33 45.00000
PRODUCTION_DATE: 2000 12 01
RASTER_ORDER: LEFT_RIGHT/TOP_BOTTOM
BAND_ORGANIZATION: SINGLE FILE
BAND_CONTENT: BLACK&WHITE
BAND_CONTENT: UNDEFINED
BAND_CONTENT: UNDEFINED
BITS_PER_PIXEL: 8
SAMPLES_AND_LINES: 5730 7680
HORIZONTAL_DATUM: NAD83
HORIZONTAL_COORDINATE_SYSTEM: UTM
COORDINATE_ZONE: 12
HORIZONTAL_UNITS: METERS
HORIZONTAL_RESOLUTION: 1.00000
SECONDARY_HORIZONTAL_DATUM: NAD27
XY_ORIGIN: 645780.00000 5054520.00000
SECONDARY_XY_ORIGIN: 645839.75000 5054309.96400
NATION: US
STATE: MT
NW_QUAD_CORNER_XY: 646162.72800 5054093.54700
NE_QUAD_CORNER_XY: 651034.78200 5054209.45200
SE_QUAD_CORNERY_XY: 651202.58800 5047265.84600
SW_QUAD_CORNER_XY: 646325.11800 5047149.93600
SECONDARY_NW_QUAD_XY: 646167.10200 5053875.89400
SECONDARY_NE_QUAD_XY: 651039.30100 5053991.80200
SECONDARY_SE_QUAD_XY: 651207.10700 5047048.24400
SECONDARY_SW_QUAD_XY: 646329.49100 5046932.33100
RMSE_XY: 1.26000
IMAGE_SOURCE: BLACK AND WHITE FILM
SOURCE_IMAGE_ID: NAPP 9129 134
SOURCE_IMAGE_DATE: 1996 07 27
SOURCE_IMAGE_ID: NAPP 9129 136
SOURCE_IMAGE_DATE: 1996 07 27
SOURCE_DEM_DATE: 1956 00 00
AGENCY: WESTERN MAPPING CENTER (WMC)
PRODUCER: ANALYTICAL SURVEYS INC.
PRODUCTION_SYSTEM: ORBIT OR_RECTIFY V.5.2
COMPRESSION: UNDEFINED
STANDARD_VERSION: 1996 12
METADATA_DATE: 2000 12 05
DATA_FILE_SIZE: 44012130
BYTE_COUNT: 5730
