FILENAME: O4510933.NWS.1145706.tif
QUADRANGLE_NAME: MEYER MOUNTAIN
QUADRANT: NW
WEST_LONGITUDE: -110 0 0.00000
EAST_LONGITUDE: -109 56 15.00000
NORTH_LATITUDE: 45 30 0.00000
SOUTH_LATITUDE: 45 26 15.00000
PRODUCTION_DATE: 2001 04 04
RASTER_ORDER: LEFT_RIGHT/TOP_BOTTOM
BAND_ORGANIZATION: SINGLE FILE
BAND_CONTENT: BLACK&WHITE
BAND_CONTENT: UNDEFINED
BAND_CONTENT: UNDEFINED
BITS_PER_PIXEL: 8
SAMPLES_AND_LINES: 5670 7650
HORIZONTAL_DATUM: NAD83
HORIZONTAL_COORDINATE_SYSTEM: UTM
COORDINATE_ZONE: 12
HORIZONTAL_UNITS: METERS
HORIZONTAL_RESOLUTION: 1.00000
SECONDARY_HORIZONTAL_DATUM: NAD27
XY_ORIGIN: 577740.00000 5039370.00000
SECONDARY_XY_ORIGIN: 577799.95100 5039160.07900
NATION: US
STATE: MT
NW_QUAD_CORNER_XY: 578126.73800 5038982.81200
NE_QUAD_CORNER_XY: 583009.65000 5039045.50400
SE_QUAD_CORNERY_XY: 583101.45000 5032101.99100
SW_QUAD_CORNER_XY: 578213.13700 5032039.29800
SECONDARY_NW_QUAD_XY: 578129.06900 5038765.21800
SECONDARY_NE_QUAD_XY: 583012.12700 5038827.91200
SECONDARY_SE_QUAD_XY: 583103.92700 5031884.44800
SECONDARY_SW_QUAD_XY: 578215.46800 5031821.75300
RMSE_XY: 3.12000
IMAGE_SOURCE: BLACK AND WHITE FILM
SOURCE_IMAGE_ID: NAPP 11012 110
SOURCE_IMAGE_DATE: 1998 08 25
SOURCE_IMAGE_ID: NAPP 9185 23
SOURCE_IMAGE_DATE: 1998 07 20
SOURCE_IMAGE_ID: NAPP 11012 112
SOURCE_IMAGE_DATE: 1998 08 25
SOURCE_IMAGE_ID: NAPP 11012 108
SOURCE_IMAGE_DATE: 1998 08 25
SOURCE_DEM_DATE: 1979 00 00
AGENCY: WESTERN MAPPING CENTER (WMC)
PRODUCER: ANALYTICAL SURVEYS INC.
PRODUCTION_SYSTEM: ORBIT OR_RECTIFY V.5.2
COMPRESSION: UNDEFINED
STANDARD_VERSION: 1996 12
METADATA_DATE: 2001 04 06
DATA_FILE_SIZE: 43381170
BYTE_COUNT: 5670
