FILENAME: O4510933.NES.1145705.tif
QUADRANGLE_NAME: MEYER MOUNTAIN
QUADRANT: NE
WEST_LONGITUDE: -109 56 15.00000
EAST_LONGITUDE: -109 52 30.00000
NORTH_LATITUDE: 45 30 0.00000
SOUTH_LATITUDE: 45 26 15.00000
PRODUCTION_DATE: 2001 04 04
RASTER_ORDER: LEFT_RIGHT/TOP_BOTTOM
BAND_ORGANIZATION: SINGLE FILE
BAND_CONTENT: BLACK&WHITE
BAND_CONTENT: UNDEFINED
BAND_CONTENT: UNDEFINED
BITS_PER_PIXEL: 8
SAMPLES_AND_LINES: 5670 7650
HORIZONTAL_DATUM: NAD83
HORIZONTAL_COORDINATE_SYSTEM: UTM
COORDINATE_ZONE: 12
HORIZONTAL_UNITS: METERS
HORIZONTAL_RESOLUTION: 1.00000
SECONDARY_HORIZONTAL_DATUM: NAD27
XY_ORIGIN: 582630.00000 5039430.00000
SECONDARY_XY_ORIGIN: 582689.92900 5039219.99000
NATION: US
STATE: MT
NW_QUAD_CORNER_XY: 583009.65000 5039045.50400
NE_QUAD_CORNER_XY: 587892.56100 5039111.99600
SE_QUAD_CORNERY_XY: 587989.76300 5032168.48500
SW_QUAD_CORNER_XY: 583101.45000 5032101.99100
SECONDARY_NW_QUAD_XY: 583012.12700 5038827.91200
SECONDARY_NE_QUAD_XY: 587895.18400 5038894.40600
SECONDARY_SE_QUAD_XY: 587992.38500 5031950.94500
SECONDARY_SW_QUAD_XY: 583103.92700 5031884.44800
RMSE_XY: 3.04000
IMAGE_SOURCE: BLACK AND WHITE FILM
SOURCE_IMAGE_ID: NAPP 11012 99
SOURCE_IMAGE_DATE: 1998 08 25
SOURCE_IMAGE_ID: NAPP 11012 101
SOURCE_IMAGE_DATE: 1998 08 25
SOURCE_DEM_DATE: 1979 00 00
AGENCY: WESTERN MAPPING CENTER (WMC)
PRODUCER: ANALYTICAL SURVEYS INC.
PRODUCTION_SYSTEM: ORBIT OR_RECTIFY V.5.2
COMPRESSION: UNDEFINED
STANDARD_VERSION: 1996 12
METADATA_DATE: 2001 04 06
DATA_FILE_SIZE: 43381170
BYTE_COUNT: 5670
