FILENAME: O4510934.SWS.1118750.tif
QUADRANGLE_NAME: NYE
QUADRANT: SW
WEST_LONGITUDE: -109 52 30.00000
EAST_LONGITUDE: -109 48 45.00000
NORTH_LATITUDE: 45 26 15.00000
SOUTH_LATITUDE: 45 22 30.00000
PRODUCTION_DATE: 2000 12 09
RASTER_ORDER: LEFT_RIGHT/TOP_BOTTOM
BAND_ORGANIZATION: SINGLE FILE
BAND_CONTENT: BLACK&WHITE
BAND_CONTENT: UNDEFINED
BAND_CONTENT: UNDEFINED
BITS_PER_PIXEL: 8
SAMPLES_AND_LINES: 5700 7650
HORIZONTAL_DATUM: NAD83
HORIZONTAL_COORDINATE_SYSTEM: UTM
COORDINATE_ZONE: 12
HORIZONTAL_UNITS: METERS
HORIZONTAL_RESOLUTION: 1.00000
SECONDARY_HORIZONTAL_DATUM: NAD27
XY_ORIGIN: 587610.00000 5032560.00000
SECONDARY_XY_ORIGIN: 587669.97100 5032349.91500
NATION: US
STATE: MT
NW_QUAD_CORNER_XY: 587989.76300 5032168.48500
NE_QUAD_CORNER_XY: 592878.07300 5032238.78000
SE_QUAD_CORNERY_XY: 592980.56500 5025295.34500
SW_QUAD_CORNER_XY: 588086.85900 5025225.04800
SECONDARY_NW_QUAD_XY: 587992.38500 5031950.94500
SECONDARY_NE_QUAD_XY: 592880.84100 5032021.24100
SECONDARY_SE_QUAD_XY: 592983.33300 5025077.85700
SECONDARY_SW_QUAD_XY: 588089.48000 5025007.55800
RMSE_XY: 1.68000
IMAGE_SOURCE: BLACK AND WHITE FILM
SOURCE_IMAGE_ID: NAPP 11012 88
SOURCE_IMAGE_DATE: 1998 08 25
SOURCE_IMAGE_ID: NAPP 11012 73
SOURCE_IMAGE_DATE: 1998 08 25
SOURCE_IMAGE_ID: NAPP 11012 90
SOURCE_IMAGE_DATE: 1998 08 25
SOURCE_DEM_DATE: 1979 00 00
AGENCY: WESTERN MAPPING CENTER (WMC)
PRODUCER: ANALYTICAL SURVEYS INC.
PRODUCTION_SYSTEM: ORBIT OR_RECTIFY V.5.2
COMPRESSION: UNDEFINED
STANDARD_VERSION: 1996 12
METADATA_DATE: 2000 12 13
DATA_FILE_SIZE: 43610700
BYTE_COUNT: 5700
