FILENAME: O4510934.NES.1118747.tif
QUADRANGLE_NAME: NYE
QUADRANT: NE
WEST_LONGITUDE: -109 48 45.00000
EAST_LONGITUDE: -109 45 0.00000
NORTH_LATITUDE: 45 30 0.00000
SOUTH_LATITUDE: 45 26 15.00000
PRODUCTION_DATE: 2000 12 09
RASTER_ORDER: LEFT_RIGHT/TOP_BOTTOM
BAND_ORGANIZATION: SINGLE FILE
BAND_CONTENT: BLACK&WHITE
BAND_CONTENT: UNDEFINED
BAND_CONTENT: UNDEFINED
BITS_PER_PIXEL: 8
SAMPLES_AND_LINES: 5670 7650
HORIZONTAL_DATUM: NAD83
HORIZONTAL_COORDINATE_SYSTEM: UTM
COORDINATE_ZONE: 12
HORIZONTAL_UNITS: METERS
HORIZONTAL_RESOLUTION: 1.00000
SECONDARY_HORIZONTAL_DATUM: NAD27
XY_ORIGIN: 592410.00000 5039580.00000
SECONDARY_XY_ORIGIN: 592469.88700 5039369.81200
NATION: US
STATE: MT
NW_QUAD_CORNER_XY: 592775.47000 5039182.28800
NE_QUAD_CORNER_XY: 597658.37700 5039256.38100
SE_QUAD_CORNERY_XY: 597766.38300 5032312.87600
SW_QUAD_CORNER_XY: 592878.07300 5032238.78000
SECONDARY_NW_QUAD_XY: 592778.23900 5038964.70000
SECONDARY_NE_QUAD_XY: 597661.29200 5039038.79600
SECONDARY_SE_QUAD_XY: 597769.29600 5032095.33900
SECONDARY_SW_QUAD_XY: 592880.84100 5032021.24100
RMSE_XY: 3.08000
IMAGE_SOURCE: BLACK AND WHITE FILM
SOURCE_IMAGE_ID: NAPP 11012 75
SOURCE_IMAGE_DATE: 1998 08 25
SOURCE_IMAGE_ID: NAPP 9154 46
SOURCE_IMAGE_DATE: 1997 08 28
SOURCE_DEM_DATE: 1979 00 00
AGENCY: WESTERN MAPPING CENTER (WMC)
PRODUCER: ANALYTICAL SURVEYS INC.
PRODUCTION_SYSTEM: ORBIT OR_RECTIFY V.5.2
COMPRESSION: UNDEFINED
STANDARD_VERSION: 1996 12
METADATA_DATE: 2000 12 13
DATA_FILE_SIZE: 43381170
BYTE_COUNT: 5670
