FILENAME: O4510935.SWS.1121506.tif
QUADRANGLE_NAME: BEEHIVE
QUADRANT: SW
WEST_LONGITUDE: -109 45 0.00000
EAST_LONGITUDE: -109 41 15.00000
NORTH_LATITUDE: 45 26 15.00000
SOUTH_LATITUDE: 45 22 30.00000
PRODUCTION_DATE: 2000 12 11
RASTER_ORDER: LEFT_RIGHT/TOP_BOTTOM
BAND_ORGANIZATION: SINGLE FILE
BAND_CONTENT: BLACK&WHITE
BAND_CONTENT: UNDEFINED
BAND_CONTENT: UNDEFINED
BITS_PER_PIXEL: 8
SAMPLES_AND_LINES: 5700 7650
HORIZONTAL_DATUM: NAD83
HORIZONTAL_COORDINATE_SYSTEM: UTM
COORDINATE_ZONE: 12
HORIZONTAL_UNITS: METERS
HORIZONTAL_RESOLUTION: 1.00000
SECONDARY_HORIZONTAL_DATUM: NAD27
XY_ORIGIN: 597390.00000 5032710.00000
SECONDARY_XY_ORIGIN: 597449.91800 5032499.75500
NATION: US
STATE: MT
NW_QUAD_CORNER_XY: 597766.38300 5032312.87600
NE_QUAD_CORNER_XY: 602654.69000 5032390.77200
SE_QUAD_CORNERY_XY: 602767.97500 5025447.34200
SW_QUAD_CORNER_XY: 597874.27100 5025369.44300
SECONDARY_NW_QUAD_XY: 597769.29600 5032095.33900
SECONDARY_NE_QUAD_XY: 602657.74900 5032173.23800
SECONDARY_SE_QUAD_XY: 602771.03300 5025229.85800
SECONDARY_SW_QUAD_XY: 597877.18300 5025151.95600
RMSE_XY: 2.59000
IMAGE_SOURCE: BLACK AND WHITE FILM
SOURCE_IMAGE_ID: NAPP 11012 66
SOURCE_IMAGE_DATE: 1998 08 25
SOURCE_IMAGE_ID: NAPP 9154 46
SOURCE_IMAGE_DATE: 1997 08 28
SOURCE_DEM_DATE: 1951 00 00
AGENCY: WESTERN MAPPING CENTER (WMC)
PRODUCER: ANALYTICAL SURVEYS INC.
PRODUCTION_SYSTEM: ORBIT OR_RECTIFY V.5.2
COMPRESSION: UNDEFINED
STANDARD_VERSION: 1996 12
METADATA_DATE: 2000 12 16
DATA_FILE_SIZE: 43610700
BYTE_COUNT: 5700
