FILENAME: O4510936.SES.1121509.tif
QUADRANGLE_NAME: FISHTAIL
QUADRANT: SE
WEST_LONGITUDE: -109 33 45.00000
EAST_LONGITUDE: -109 30 0.00000
NORTH_LATITUDE: 45 26 15.00000
SOUTH_LATITUDE: 45 22 30.00000
PRODUCTION_DATE: 2000 12 11
RASTER_ORDER: LEFT_RIGHT/TOP_BOTTOM
BAND_ORGANIZATION: SINGLE FILE
BAND_CONTENT: BLACK&WHITE
BAND_CONTENT: UNDEFINED
BAND_CONTENT: UNDEFINED
BITS_PER_PIXEL: 8
SAMPLES_AND_LINES: 5700 7650
HORIZONTAL_DATUM: NAD83
HORIZONTAL_COORDINATE_SYSTEM: UTM
COORDINATE_ZONE: 12
HORIZONTAL_UNITS: METERS
HORIZONTAL_RESOLUTION: 1.00000
SECONDARY_HORIZONTAL_DATUM: NAD27
XY_ORIGIN: 612060.00000 5032950.00000
SECONDARY_XY_ORIGIN: 612119.92100 5032739.84400
NATION: US
STATE: MT
NW_QUAD_CORNER_XY: 612431.30000 5032557.96900
NE_QUAD_CORNER_XY: 617319.60300 5032647.27000
SE_QUAD_CORNERY_XY: 617449.07700 5025703.84600
SW_QUAD_CORNER_XY: 612555.37800 5025614.54300
SECONDARY_NW_QUAD_XY: 612434.65100 5032340.44000
SECONDARY_NE_QUAD_XY: 617323.09900 5032429.74400
SECONDARY_SE_QUAD_XY: 617452.57200 5025486.37000
SECONDARY_SW_QUAD_XY: 612558.72700 5025397.06400
RMSE_XY: 1.78000
IMAGE_SOURCE: BLACK AND WHITE FILM
SOURCE_IMAGE_ID: NAPP 9154 43
SOURCE_IMAGE_DATE: 1997 08 28
SOURCE_IMAGE_ID: NAPP 11012 49
SOURCE_IMAGE_DATE: 1998 08 25
SOURCE_DEM_DATE: 1956 00 00
AGENCY: WESTERN MAPPING CENTER (WMC)
PRODUCER: ANALYTICAL SURVEYS INC.
PRODUCTION_SYSTEM: ORBIT OR_RECTIFY V.5.2
COMPRESSION: UNDEFINED
STANDARD_VERSION: 1996 12
METADATA_DATE: 2000 12 15
DATA_FILE_SIZE: 43610700
BYTE_COUNT: 5700
