FILENAME: O4510936.NWS.1121508.tif
QUADRANGLE_NAME: FISHTAIL
QUADRANT: NW
WEST_LONGITUDE: -109 37 30.00000
EAST_LONGITUDE: -109 33 45.00000
NORTH_LATITUDE: 45 30 0.00000
SOUTH_LATITUDE: 45 26 15.00000
PRODUCTION_DATE: 2000 12 11
RASTER_ORDER: LEFT_RIGHT/TOP_BOTTOM
BAND_ORGANIZATION: SINGLE FILE
BAND_CONTENT: BLACK&WHITE
BAND_CONTENT: UNDEFINED
BAND_CONTENT: UNDEFINED
BITS_PER_PIXEL: 8
SAMPLES_AND_LINES: 5700 7680
HORIZONTAL_DATUM: NAD83
HORIZONTAL_COORDINATE_SYSTEM: UTM
COORDINATE_ZONE: 12
HORIZONTAL_UNITS: METERS
HORIZONTAL_RESOLUTION: 1.00000
SECONDARY_HORIZONTAL_DATUM: NAD27
XY_ORIGIN: 607050.00000 5039820.00000
SECONDARY_XY_ORIGIN: 607109.89000 5039609.78900
NATION: US
STATE: MT
NW_QUAD_CORNER_XY: 607424.18700 5039415.97100
NE_QUAD_CORNER_XY: 612307.08800 5039501.46700
SE_QUAD_CORNERY_XY: 612431.30000 5032557.96900
SW_QUAD_CORNER_XY: 607542.99600 5032472.47000
SECONDARY_NW_QUAD_XY: 607427.39200 5039198.39000
SECONDARY_NE_QUAD_XY: 612310.44000 5039283.88900
SECONDARY_SE_QUAD_XY: 612434.65100 5032340.44000
SECONDARY_SW_QUAD_XY: 607546.20100 5032254.93800
RMSE_XY: 2.05000
IMAGE_SOURCE: BLACK AND WHITE FILM
SOURCE_IMAGE_ID: NAPP 9150 63
SOURCE_IMAGE_DATE: 1996 09 11
SOURCE_DEM_DATE: 1956 00 00
AGENCY: WESTERN MAPPING CENTER (WMC)
PRODUCER: ANALYTICAL SURVEYS INC.
PRODUCTION_SYSTEM: ORBIT OR_RECTIFY V.5.2
COMPRESSION: UNDEFINED
STANDARD_VERSION: 1996 12
METADATA_DATE: 2000 12 15
DATA_FILE_SIZE: 43781700
BYTE_COUNT: 5700
