FILENAME: O4510936.NES.1121507.tif
QUADRANGLE_NAME: FISHTAIL
QUADRANT: NE
WEST_LONGITUDE: -109 33 45.00000
EAST_LONGITUDE: -109 30 0.00000
NORTH_LATITUDE: 45 30 0.00000
SOUTH_LATITUDE: 45 26 15.00000
PRODUCTION_DATE: 2000 12 11
RASTER_ORDER: LEFT_RIGHT/TOP_BOTTOM
BAND_ORGANIZATION: SINGLE FILE
BAND_CONTENT: BLACK&WHITE
BAND_CONTENT: UNDEFINED
BAND_CONTENT: UNDEFINED
BITS_PER_PIXEL: 8
SAMPLES_AND_LINES: 5700 7680
HORIZONTAL_DATUM: NAD83
HORIZONTAL_COORDINATE_SYSTEM: UTM
COORDINATE_ZONE: 12
HORIZONTAL_UNITS: METERS
HORIZONTAL_RESOLUTION: 1.00000
SECONDARY_HORIZONTAL_DATUM: NAD27
XY_ORIGIN: 611940.00000 5039910.00000
SECONDARY_XY_ORIGIN: 611999.90200 5039699.82300
NATION: US
STATE: MT
NW_QUAD_CORNER_XY: 612307.08800 5039501.46700
NE_QUAD_CORNER_XY: 617189.98700 5039590.76500
SE_QUAD_CORNERY_XY: 617319.60300 5032647.27000
SW_QUAD_CORNER_XY: 612431.30000 5032557.96900
SECONDARY_NW_QUAD_XY: 612310.44000 5039283.88900
SECONDARY_NE_QUAD_XY: 617193.48500 5039373.18900
SECONDARY_SE_QUAD_XY: 617323.09900 5032429.74400
SECONDARY_SW_QUAD_XY: 612434.65100 5032340.44000
RMSE_XY: 1.59000
IMAGE_SOURCE: BLACK AND WHITE FILM
SOURCE_IMAGE_ID: NAPP 9154 41
SOURCE_IMAGE_DATE: 1997 08 28
SOURCE_DEM_DATE: 1956 00 00
AGENCY: WESTERN MAPPING CENTER (WMC)
PRODUCER: ANALYTICAL SURVEYS INC.
PRODUCTION_SYSTEM: ORBIT OR_RECTIFY V.5.2
COMPRESSION: UNDEFINED
STANDARD_VERSION: 1996 12
METADATA_DATE: 2000 12 15
DATA_FILE_SIZE: 43781700
BYTE_COUNT: 5700
