FILENAME: O4510937.SWS.1121514.tif
QUADRANGLE_NAME: ROSCOE NW
QUADRANT: SW
WEST_LONGITUDE: -109 30 0.00000
EAST_LONGITUDE: -109 26 15.00000
NORTH_LATITUDE: 45 26 15.00000
SOUTH_LATITUDE: 45 22 30.00000
PRODUCTION_DATE: 2000 12 11
RASTER_ORDER: LEFT_RIGHT/TOP_BOTTOM
BAND_ORGANIZATION: SINGLE FILE
BAND_CONTENT: BLACK&WHITE
BAND_CONTENT: UNDEFINED
BAND_CONTENT: UNDEFINED
BITS_PER_PIXEL: 8
SAMPLES_AND_LINES: 5700 7680
HORIZONTAL_DATUM: NAD83
HORIZONTAL_COORDINATE_SYSTEM: UTM
COORDINATE_ZONE: 12
HORIZONTAL_UNITS: METERS
HORIZONTAL_RESOLUTION: 1.00000
SECONDARY_HORIZONTAL_DATUM: NAD27
XY_ORIGIN: 616950.00000 5033070.00000
SECONDARY_XY_ORIGIN: 617009.92200 5032859.87200
NATION: US
STATE: MT
NW_QUAD_CORNER_XY: 617319.60300 5032647.27000
NE_QUAD_CORNER_XY: 622207.90300 5032740.37300
SE_QUAD_CORNERY_XY: 622342.77500 5025796.95200
SW_QUAD_CORNER_XY: 617449.07700 5025703.84600
SECONDARY_NW_QUAD_XY: 617323.09900 5032429.74400
SECONDARY_NE_QUAD_XY: 622211.54500 5032522.84900
SECONDARY_SE_QUAD_XY: 622346.41600 5025579.47800
SECONDARY_SW_QUAD_XY: 617452.57200 5025486.37000
RMSE_XY: 1.67000
IMAGE_SOURCE: BLACK AND WHITE FILM
SOURCE_IMAGE_ID: NAPP 9153 194
SOURCE_IMAGE_DATE: 1997 08 28
SOURCE_DEM_DATE: 1956 00 00
AGENCY: WESTERN MAPPING CENTER (WMC)
PRODUCER: ANALYTICAL SURVEYS INC.
PRODUCTION_SYSTEM: ORBIT OR_RECTIFY V.5.2
COMPRESSION: UNDEFINED
STANDARD_VERSION: 1996 12
METADATA_DATE: 2000 12 18
DATA_FILE_SIZE: 43781700
BYTE_COUNT: 5700
