FILENAME: O4510937.SES.1121513.tif
QUADRANGLE_NAME: ROSCOE NW
QUADRANT: SE
WEST_LONGITUDE: -109 26 15.00000
EAST_LONGITUDE: -109 22 30.00000
NORTH_LATITUDE: 45 26 15.00000
SOUTH_LATITUDE: 45 22 30.00000
PRODUCTION_DATE: 2000 12 11
RASTER_ORDER: LEFT_RIGHT/TOP_BOTTOM
BAND_ORGANIZATION: SINGLE FILE
BAND_CONTENT: BLACK&WHITE
BAND_CONTENT: UNDEFINED
BAND_CONTENT: UNDEFINED
BITS_PER_PIXEL: 8
SAMPLES_AND_LINES: 5700 7680
HORIZONTAL_DATUM: NAD83
HORIZONTAL_COORDINATE_SYSTEM: UTM
COORDINATE_ZONE: 12
HORIZONTAL_UNITS: METERS
HORIZONTAL_RESOLUTION: 1.00000
SECONDARY_HORIZONTAL_DATUM: NAD27
XY_ORIGIN: 621840.00000 5033160.00000
SECONDARY_XY_ORIGIN: 621899.90000 5032949.87500
NATION: US
STATE: MT
NW_QUAD_CORNER_XY: 622207.90300 5032740.37300
NE_QUAD_CORNER_XY: 627096.20100 5032837.27700
SE_QUAD_CORNERY_XY: 627236.47100 5025893.85900
SW_QUAD_CORNER_XY: 622342.77500 5025796.95200
SECONDARY_NW_QUAD_XY: 622211.54500 5032522.84900
SECONDARY_NE_QUAD_XY: 627099.98900 5032619.75600
SECONDARY_SE_QUAD_XY: 627240.25700 5025676.38800
SECONDARY_SW_QUAD_XY: 622346.41600 5025579.47800
RMSE_XY: 1.75000
IMAGE_SOURCE: BLACK AND WHITE FILM
SOURCE_IMAGE_ID: NAPP 9153 183
SOURCE_IMAGE_DATE: 1997 08 28
SOURCE_DEM_DATE: 1956 00 00
AGENCY: WESTERN MAPPING CENTER (WMC)
PRODUCER: ANALYTICAL SURVEYS INC.
PRODUCTION_SYSTEM: ORBIT OR_RECTIFY V.5.2
COMPRESSION: UNDEFINED
STANDARD_VERSION: 1996 12
METADATA_DATE: 2000 12 18
DATA_FILE_SIZE: 43781700
BYTE_COUNT: 5700
