FILENAME: O4510938.SES.1121461.tif
QUADRANGLE_NAME: ROSCOE NE
QUADRANT: SE
WEST_LONGITUDE: -109 18 45.00000
EAST_LONGITUDE: -109 15 0.00000
NORTH_LATITUDE: 45 26 15.00000
SOUTH_LATITUDE: 45 22 30.00000
PRODUCTION_DATE: 2000 12 15
RASTER_ORDER: LEFT_RIGHT/TOP_BOTTOM
BAND_ORGANIZATION: SINGLE FILE
BAND_CONTENT: BLACK&WHITE
BAND_CONTENT: UNDEFINED
BAND_CONTENT: UNDEFINED
BITS_PER_PIXEL: 8
SAMPLES_AND_LINES: 5730 7710
HORIZONTAL_DATUM: NAD83
HORIZONTAL_COORDINATE_SYSTEM: UTM
COORDINATE_ZONE: 12
HORIZONTAL_UNITS: METERS
HORIZONTAL_RESOLUTION: 1.00000
SECONDARY_HORIZONTAL_DATUM: NAD27
XY_ORIGIN: 631620.00000 5033370.00000
SECONDARY_XY_ORIGIN: 631679.85800 5033159.87900
NATION: US
STATE: MT
NW_QUAD_CORNER_XY: 631984.49700 5032937.98400
NE_QUAD_CORNER_XY: 636872.79100 5033042.49300
SE_QUAD_CORNERY_XY: 637023.85700 5026099.08000
SW_QUAD_CORNER_XY: 632130.16500 5025994.56800
SECONDARY_NW_QUAD_XY: 631988.43100 5032720.46600
SECONDARY_NE_QUAD_XY: 636876.87000 5032824.97800
SECONDARY_SE_QUAD_XY: 637027.93500 5025881.61600
SECONDARY_SW_QUAD_XY: 632134.09700 5025777.10100
RMSE_XY: 1.54000
IMAGE_SOURCE: BLACK AND WHITE FILM
SOURCE_IMAGE_ID: NAPP 9153 86
SOURCE_IMAGE_DATE: 1997 08 28
SOURCE_DEM_DATE: 1956 00 00
AGENCY: WESTERN MAPPING CENTER (WMC)
PRODUCER: ANALYTICAL SURVEYS INC.
PRODUCTION_SYSTEM: ORBIT OR_RECTIFY V.5.2
COMPRESSION: UNDEFINED
STANDARD_VERSION: 1996 12
METADATA_DATE: 2000 12 15
DATA_FILE_SIZE: 44184030
BYTE_COUNT: 5730
