FILENAME: O4510939.NWS.1121464.tif
QUADRANGLE_NAME: COONEY RESERVOIR
QUADRANT: NW
WEST_LONGITUDE: -109 15 0.00000
EAST_LONGITUDE: -109 11 15.00000
NORTH_LATITUDE: 45 30 0.00000
SOUTH_LATITUDE: 45 26 15.00000
PRODUCTION_DATE: 2000 12 15
RASTER_ORDER: LEFT_RIGHT/TOP_BOTTOM
BAND_ORGANIZATION: SINGLE FILE
BAND_CONTENT: BLACK&WHITE
BAND_CONTENT: UNDEFINED
BAND_CONTENT: UNDEFINED
BITS_PER_PIXEL: 8
SAMPLES_AND_LINES: 5730 7710
HORIZONTAL_DATUM: NAD83
HORIZONTAL_COORDINATE_SYSTEM: UTM
COORDINATE_ZONE: 12
HORIZONTAL_UNITS: METERS
HORIZONTAL_RESOLUTION: 1.00000
SECONDARY_HORIZONTAL_DATUM: NAD27
XY_ORIGIN: 636360.00000 5040420.00000
SECONDARY_XY_ORIGIN: 636419.85800 5040209.84500
NATION: US
STATE: MT
NW_QUAD_CORNER_XY: 636721.56100 5039985.97400
NE_QUAD_CORNER_XY: 641604.44800 5040094.28300
SE_QUAD_CORNERY_XY: 641761.08300 5033150.80500
SW_QUAD_CORNER_XY: 636872.79100 5033042.49300
SECONDARY_NW_QUAD_XY: 636725.64200 5039768.41100
SECONDARY_NE_QUAD_XY: 641608.67400 5039876.72200
SECONDARY_SE_QUAD_XY: 641765.30800 5032933.29300
SECONDARY_SW_QUAD_XY: 636876.87000 5032824.97800
RMSE_XY: 2.33000
IMAGE_SOURCE: BLACK AND WHITE FILM
SOURCE_IMAGE_ID: NAPP 9130 109
SOURCE_IMAGE_DATE: 1996 07 27
SOURCE_DEM_DATE: 1956 00 00
AGENCY: WESTERN MAPPING CENTER (WMC)
PRODUCER: ANALYTICAL SURVEYS INC.
PRODUCTION_SYSTEM: ORBIT OR_RECTIFY V.5.2
COMPRESSION: UNDEFINED
STANDARD_VERSION: 1996 12
METADATA_DATE: 2000 12 19
DATA_FILE_SIZE: 44184030
BYTE_COUNT: 5730
