FILENAME: O4510941.SES.1145755.tif
QUADRANGLE_NAME: CATHEDRAL POINT
QUADRANT: SE
WEST_LONGITUDE: -109 56 15.00000
EAST_LONGITUDE: -109 52 30.00000
NORTH_LATITUDE: 45 18 45.00000
SOUTH_LATITUDE: 45 15 0.00000
PRODUCTION_DATE: 2001 04 06
RASTER_ORDER: LEFT_RIGHT/TOP_BOTTOM
BAND_ORGANIZATION: SINGLE FILE
BAND_CONTENT: BLACK&WHITE
BAND_CONTENT: UNDEFINED
BAND_CONTENT: UNDEFINED
BITS_PER_PIXEL: 8
SAMPLES_AND_LINES: 5700 7650
HORIZONTAL_DATUM: NAD83
HORIZONTAL_COORDINATE_SYSTEM: UTM
COORDINATE_ZONE: 12
HORIZONTAL_UNITS: METERS
HORIZONTAL_RESOLUTION: 1.00000
SECONDARY_HORIZONTAL_DATUM: NAD27
XY_ORIGIN: 582900.00000 5018610.00000
SECONDARY_XY_ORIGIN: 582960.13600 5018400.00500
NATION: US
STATE: MT
NW_QUAD_CORNER_XY: 583284.75300 5018215.18700
NE_QUAD_CORNER_XY: 588183.85000 5018281.68500
SE_QUAD_CORNERY_XY: 588280.73500 5011338.39500
SW_QUAD_CORNER_XY: 583376.25400 5011271.89600
SECONDARY_NW_QUAD_XY: 583287.22800 5017997.74600
SECONDARY_NE_QUAD_XY: 588186.47100 5018064.24500
SECONDARY_SE_QUAD_XY: 588283.35500 5011121.00700
SECONDARY_SW_QUAD_XY: 583378.72800 5011054.50600
RMSE_XY: 3.94000
IMAGE_SOURCE: BLACK AND WHITE FILM
SOURCE_IMAGE_ID: NAPP 11012 93
SOURCE_IMAGE_DATE: 1998 08 25
SOURCE_IMAGE_ID: NAPP 11012 94
SOURCE_IMAGE_DATE: 1998 08 25
SOURCE_IMAGE_ID: NAPP 11012 116
SOURCE_IMAGE_DATE: 1998 08 25
SOURCE_IMAGE_ID: NAPP 11012 185
SOURCE_IMAGE_DATE: 1998 08 25
SOURCE_IMAGE_ID: NAPP 11012 92
SOURCE_IMAGE_DATE: 1998 08 25
SOURCE_DEM_DATE: 1986 00 00
AGENCY: WESTERN MAPPING CENTER (WMC)
PRODUCER: ANALYTICAL SURVEYS INC.
PRODUCTION_SYSTEM: ORBIT OR_RECTIFY V.5.2
COMPRESSION: UNDEFINED
STANDARD_VERSION: 1996 12
METADATA_DATE: 2001 06 11
DATA_FILE_SIZE: 43610700
BYTE_COUNT: 5700
