FILENAME: O4510944.SWS.1121454.tif
QUADRANGLE_NAME: MACKAY RANCH
QUADRANT: SW
WEST_LONGITUDE: -109 37 30.00000
EAST_LONGITUDE: -109 33 45.00000
NORTH_LATITUDE: 45 18 45.00000
SOUTH_LATITUDE: 45 15 0.00000
PRODUCTION_DATE: 2000 12 08
RASTER_ORDER: LEFT_RIGHT/TOP_BOTTOM
BAND_ORGANIZATION: SINGLE FILE
BAND_CONTENT: BLACK&WHITE
BAND_CONTENT: UNDEFINED
BAND_CONTENT: UNDEFINED
BITS_PER_PIXEL: 8
SAMPLES_AND_LINES: 5700 7680
HORIZONTAL_DATUM: NAD83
HORIZONTAL_COORDINATE_SYSTEM: UTM
COORDINATE_ZONE: 12
HORIZONTAL_UNITS: METERS
HORIZONTAL_RESOLUTION: 1.00000
SECONDARY_HORIZONTAL_DATUM: NAD27
XY_ORIGIN: 607410.00000 5019000.00000
SECONDARY_XY_ORIGIN: 607469.97800 5018789.86900
NATION: US
STATE: MT
NW_QUAD_CORNER_XY: 607780.22900 5018585.68500
NE_QUAD_CORNER_XY: 612679.32100 5018671.18900
SE_QUAD_CORNERY_XY: 612803.12800 5011727.90600
SW_QUAD_CORNER_XY: 607898.65200 5011642.40100
SECONDARY_NW_QUAD_XY: 607783.43200 5018368.25400
SECONDARY_NE_QUAD_XY: 612682.66900 5018453.76100
SECONDARY_SE_QUAD_XY: 612806.47600 5011510.52900
SECONDARY_SW_QUAD_XY: 607901.85400 5011425.02200
RMSE_XY: 3.30000
IMAGE_SOURCE: BLACK AND WHITE FILM
SOURCE_IMAGE_ID: NAPP 11012 54
SOURCE_IMAGE_DATE: 1998 08 25
SOURCE_IMAGE_ID: NAPP 11012 129
SOURCE_IMAGE_DATE: 1998 08 25
SOURCE_IMAGE_ID: NAPP 11012 47
SOURCE_IMAGE_DATE: 1998 08 25
SOURCE_DEM_DATE: 2000 01 01
AGENCY: WESTERN MAPPING CENTER (WMC)
PRODUCER: ANALYTICAL SURVEYS INC.
PRODUCTION_SYSTEM: ORBIT OR_RECTIFY V.5.2
COMPRESSION: UNDEFINED
STANDARD_VERSION: 1996 12
METADATA_DATE: 2000 12 14
DATA_FILE_SIZE: 43781700
BYTE_COUNT: 5700
