FILENAME: O4510945.NWS.1121456.tif
QUADRANGLE_NAME: ROSCOE
QUADRANT: NW
WEST_LONGITUDE: -109 30 0.00000
EAST_LONGITUDE: -109 26 15.00000
NORTH_LATITUDE: 45 22 30.00000
SOUTH_LATITUDE: 45 18 45.00000
PRODUCTION_DATE: 2000 12 08
RASTER_ORDER: LEFT_RIGHT/TOP_BOTTOM
BAND_ORGANIZATION: SINGLE FILE
BAND_CONTENT: BLACK&WHITE
BAND_CONTENT: UNDEFINED
BAND_CONTENT: UNDEFINED
BITS_PER_PIXEL: 8
SAMPLES_AND_LINES: 5730 7680
HORIZONTAL_DATUM: NAD83
HORIZONTAL_COORDINATE_SYSTEM: UTM
COORDINATE_ZONE: 12
HORIZONTAL_UNITS: METERS
HORIZONTAL_RESOLUTION: 1.00000
SECONDARY_HORIZONTAL_DATUM: NAD27
XY_ORIGIN: 617070.00000 5026110.00000
SECONDARY_XY_ORIGIN: 617129.92900 5025899.88900
NATION: US
STATE: MT
NW_QUAD_CORNER_XY: 617449.07700 5025703.84600
NE_QUAD_CORNER_XY: 622342.77500 5025796.95200
SE_QUAD_CORNERY_XY: 622477.50000 5018853.60100
SW_QUAD_CORNER_XY: 617578.41100 5018760.49400
SECONDARY_NW_QUAD_XY: 617452.57200 5025486.37000
SECONDARY_NE_QUAD_XY: 622346.41600 5025579.47800
SECONDARY_SE_QUAD_XY: 622481.14000 5018636.17900
SECONDARY_SW_QUAD_XY: 617581.90500 5018543.06800
RMSE_XY: 2.87000
IMAGE_SOURCE: BLACK AND WHITE FILM
SOURCE_IMAGE_ID: NAPP 9153 192
SOURCE_IMAGE_DATE: 1997 08 28
SOURCE_DEM_DATE: 1951 00 00
AGENCY: WESTERN MAPPING CENTER (WMC)
PRODUCER: ANALYTICAL SURVEYS INC.
PRODUCTION_SYSTEM: ORBIT OR_RECTIFY V.5.2
COMPRESSION: UNDEFINED
STANDARD_VERSION: 1996 12
METADATA_DATE: 2000 12 14
DATA_FILE_SIZE: 44012130
BYTE_COUNT: 5730
