FILENAME: O4510946.NES.1121471.tif
QUADRANGLE_NAME: CASTAGNE
QUADRANT: NE
WEST_LONGITUDE: -109 18 45.00000
EAST_LONGITUDE: -109 15 0.00000
NORTH_LATITUDE: 45 22 30.00000
SOUTH_LATITUDE: 45 18 45.00000
PRODUCTION_DATE: 2000 12 15
RASTER_ORDER: LEFT_RIGHT/TOP_BOTTOM
BAND_ORGANIZATION: SINGLE FILE
BAND_CONTENT: BLACK&WHITE
BAND_CONTENT: UNDEFINED
BAND_CONTENT: UNDEFINED
BITS_PER_PIXEL: 8
SAMPLES_AND_LINES: 5730 7680
HORIZONTAL_DATUM: NAD83
HORIZONTAL_COORDINATE_SYSTEM: UTM
COORDINATE_ZONE: 12
HORIZONTAL_UNITS: METERS
HORIZONTAL_RESOLUTION: 1.00000
SECONDARY_HORIZONTAL_DATUM: NAD27
XY_ORIGIN: 631770.00000 5026410.00000
SECONDARY_XY_ORIGIN: 631829.84400 5026199.91300
NATION: US
STATE: MT
NW_QUAD_CORNER_XY: 632130.16500 5025994.56800
NE_QUAD_CORNER_XY: 637023.85700 5026099.08000
SE_QUAD_CORNERY_XY: 637174.75900 5019155.73700
SW_QUAD_CORNER_XY: 632275.67400 5019051.22300
SECONDARY_NW_QUAD_XY: 632134.09700 5025777.10100
SECONDARY_NE_QUAD_XY: 637027.93500 5025881.61600
SECONDARY_SE_QUAD_XY: 637178.83600 5018938.32300
SECONDARY_SW_QUAD_XY: 632279.60600 5018833.80600
RMSE_XY: 1.12000
IMAGE_SOURCE: BLACK AND WHITE FILM
SOURCE_IMAGE_ID: NAPP 9153 88
SOURCE_IMAGE_DATE: 1997 08 28
SOURCE_DEM_DATE: 1956 00 00
AGENCY: WESTERN MAPPING CENTER (WMC)
PRODUCER: ANALYTICAL SURVEYS INC.
PRODUCTION_SYSTEM: ORBIT OR_RECTIFY V.5.2
COMPRESSION: UNDEFINED
STANDARD_VERSION: 1996 12
METADATA_DATE: 2000 12 17
DATA_FILE_SIZE: 44012130
BYTE_COUNT: 5730
