FILENAME: O4510947.SWS.1121478.tif
QUADRANGLE_NAME: ROBERTS
QUADRANT: SW
WEST_LONGITUDE: -109 15 0.00000
EAST_LONGITUDE: -109 11 15.00000
NORTH_LATITUDE: 45 18 45.00000
SOUTH_LATITUDE: 45 15 0.00000
PRODUCTION_DATE: 2000 12 15
RASTER_ORDER: LEFT_RIGHT/TOP_BOTTOM
BAND_ORGANIZATION: SINGLE FILE
BAND_CONTENT: BLACK&WHITE
BAND_CONTENT: UNDEFINED
BAND_CONTENT: UNDEFINED
BITS_PER_PIXEL: 8
SAMPLES_AND_LINES: 5730 7680
HORIZONTAL_DATUM: NAD83
HORIZONTAL_COORDINATE_SYSTEM: UTM
COORDINATE_ZONE: 12
HORIZONTAL_UNITS: METERS
HORIZONTAL_RESOLUTION: 1.00000
SECONDARY_HORIZONTAL_DATUM: NAD27
XY_ORIGIN: 636810.00000 5019570.00000
SECONDARY_XY_ORIGIN: 636869.79300 5019359.96400
NATION: US
STATE: MT
NW_QUAD_CORNER_XY: 637174.75900 5019155.73700
NE_QUAD_CORNER_XY: 642073.84200 5019264.05500
SE_QUAD_CORNERY_XY: 642229.96700 5012320.78300
SW_QUAD_CORNER_XY: 637325.49700 5012212.46300
SECONDARY_NW_QUAD_XY: 637178.83600 5018938.32300
SECONDARY_NE_QUAD_XY: 642078.06500 5019046.64400
SECONDARY_SE_QUAD_XY: 642234.18800 5012103.42400
SECONDARY_SW_QUAD_XY: 637329.57300 5011995.10100
RMSE_XY: 1.19000
IMAGE_SOURCE: BLACK AND WHITE FILM
SOURCE_IMAGE_ID: NAPP 9130 103
SOURCE_IMAGE_DATE: 1996 07 27
SOURCE_DEM_DATE: 1956 00 00
AGENCY: WESTERN MAPPING CENTER (WMC)
PRODUCER: ANALYTICAL SURVEYS INC.
PRODUCTION_SYSTEM: ORBIT OR_RECTIFY V.5.2
COMPRESSION: UNDEFINED
STANDARD_VERSION: 1996 12
METADATA_DATE: 2000 12 17
DATA_FILE_SIZE: 44012130
BYTE_COUNT: 5730
