FILENAME: O4510948.SWS.1121482.tif
QUADRANGLE_NAME: THE BIG SLIDE
QUADRANT: SW
WEST_LONGITUDE: -109 7 30.00000
EAST_LONGITUDE: -109 3 45.00000
NORTH_LATITUDE: 45 18 45.00000
SOUTH_LATITUDE: 45 15 0.00000
PRODUCTION_DATE: 2000 12 15
RASTER_ORDER: LEFT_RIGHT/TOP_BOTTOM
BAND_ORGANIZATION: SINGLE FILE
BAND_CONTENT: BLACK&WHITE
BAND_CONTENT: UNDEFINED
BAND_CONTENT: UNDEFINED
BITS_PER_PIXEL: 8
SAMPLES_AND_LINES: 5760 7710
HORIZONTAL_DATUM: NAD83
HORIZONTAL_COORDINATE_SYSTEM: UTM
COORDINATE_ZONE: 12
HORIZONTAL_UNITS: METERS
HORIZONTAL_RESOLUTION: 1.00000
SECONDARY_HORIZONTAL_DATUM: NAD27
XY_ORIGIN: 646590.00000 5019810.00000
SECONDARY_XY_ORIGIN: 646649.68800 5019599.94100
NATION: US
STATE: MT
NW_QUAD_CORNER_XY: 646972.92400 5019376.17500
NE_QUAD_CORNER_XY: 651872.00400 5019492.10000
SE_QUAD_CORNERY_XY: 652038.90400 5012548.83200
SW_QUAD_CORNER_XY: 647134.43600 5012432.90600
SECONDARY_NW_QUAD_XY: 646977.29200 5019158.76800
SECONDARY_NE_QUAD_XY: 651876.51800 5019274.69600
SECONDARY_SE_QUAD_XY: 652043.41600 5012331.48000
SECONDARY_SW_QUAD_XY: 647138.80300 5012215.55000
RMSE_XY: 1.72000
IMAGE_SOURCE: BLACK AND WHITE FILM
SOURCE_IMAGE_ID: NAPP 9139 162
SOURCE_IMAGE_DATE: 1996 08 26
SOURCE_DEM_DATE: 1956 00 00
AGENCY: WESTERN MAPPING CENTER (WMC)
PRODUCER: ANALYTICAL SURVEYS INC.
PRODUCTION_SYSTEM: ORBIT OR_RECTIFY V.5.2
COMPRESSION: UNDEFINED
STANDARD_VERSION: 1996 12
METADATA_DATE: 2000 12 17
DATA_FILE_SIZE: 44415360
BYTE_COUNT: 5760
