FILENAME: O4510948.SES.1121481.tif
QUADRANGLE_NAME: THE BIG SLIDE
QUADRANT: SE
WEST_LONGITUDE: -109 3 45.00000
EAST_LONGITUDE: -109 0 0.00000
NORTH_LATITUDE: 45 18 45.00000
SOUTH_LATITUDE: 45 15 0.00000
PRODUCTION_DATE: 2000 12 15
RASTER_ORDER: LEFT_RIGHT/TOP_BOTTOM
BAND_ORGANIZATION: SINGLE FILE
BAND_CONTENT: BLACK&WHITE
BAND_CONTENT: UNDEFINED
BAND_CONTENT: UNDEFINED
BITS_PER_PIXEL: 8
SAMPLES_AND_LINES: 5760 7710
HORIZONTAL_DATUM: NAD83
HORIZONTAL_COORDINATE_SYSTEM: UTM
COORDINATE_ZONE: 12
HORIZONTAL_UNITS: METERS
HORIZONTAL_RESOLUTION: 1.00000
SECONDARY_HORIZONTAL_DATUM: NAD27
XY_ORIGIN: 651510.00000 5019930.00000
SECONDARY_XY_ORIGIN: 651569.63500 5019719.93000
NATION: US
STATE: MT
NW_QUAD_CORNER_XY: 651872.00400 5019492.10000
NE_QUAD_CORNER_XY: 656771.08200 5019611.82700
SE_QUAD_CORNERY_XY: 656943.37000 5012668.56200
SW_QUAD_CORNER_XY: 652038.90400 5012548.83200
SECONDARY_NW_QUAD_XY: 651876.51800 5019274.69600
SECONDARY_NE_QUAD_XY: 656775.74100 5019394.42700
SECONDARY_SE_QUAD_XY: 656948.02800 5012451.21300
SECONDARY_SW_QUAD_XY: 652043.41600 5012331.48000
RMSE_XY: 2.11000
IMAGE_SOURCE: BLACK AND WHITE FILM
SOURCE_IMAGE_ID: NAPP 9129 114
SOURCE_IMAGE_DATE: 1996 07 27
SOURCE_DEM_DATE: 1956 00 00
AGENCY: WESTERN MAPPING CENTER (WMC)
PRODUCER: ANALYTICAL SURVEYS INC.
PRODUCTION_SYSTEM: ORBIT OR_RECTIFY V.5.2
COMPRESSION: UNDEFINED
STANDARD_VERSION: 1996 12
METADATA_DATE: 2000 12 17
DATA_FILE_SIZE: 44415360
BYTE_COUNT: 5760
