FILENAME: O4510948.NES.1121479.tif
QUADRANGLE_NAME: THE BIG SLIDE
QUADRANT: NE
WEST_LONGITUDE: -109 3 45.00000
EAST_LONGITUDE: -109 0 0.00000
NORTH_LATITUDE: 45 22 30.00000
SOUTH_LATITUDE: 45 18 45.00000
PRODUCTION_DATE: 2000 12 15
RASTER_ORDER: LEFT_RIGHT/TOP_BOTTOM
BAND_ORGANIZATION: SINGLE FILE
BAND_CONTENT: BLACK&WHITE
BAND_CONTENT: UNDEFINED
BAND_CONTENT: UNDEFINED
BITS_PER_PIXEL: 8
SAMPLES_AND_LINES: 5760 7680
HORIZONTAL_DATUM: NAD83
HORIZONTAL_COORDINATE_SYSTEM: UTM
COORDINATE_ZONE: 12
HORIZONTAL_UNITS: METERS
HORIZONTAL_RESOLUTION: 1.00000
SECONDARY_HORIZONTAL_DATUM: NAD27
XY_ORIGIN: 651330.00000 5026860.00000
SECONDARY_XY_ORIGIN: 651389.66200 5026649.89500
NATION: US
STATE: MT
NW_QUAD_CORNER_XY: 651704.92200 5026435.43500
NE_QUAD_CORNER_XY: 656598.60600 5026555.16000
SE_QUAD_CORNERY_XY: 656771.08200 5019611.82700
SW_QUAD_CORNER_XY: 651872.00400 5019492.10000
SECONDARY_NW_QUAD_XY: 651709.43700 5026217.98000
SECONDARY_NE_QUAD_XY: 656603.26700 5026337.70900
SECONDARY_SE_QUAD_XY: 656775.74100 5019394.42700
SECONDARY_SW_QUAD_XY: 651876.51800 5019274.69600
RMSE_XY: 1.61000
IMAGE_SOURCE: BLACK AND WHITE FILM
SOURCE_IMAGE_ID: NAPP 9129 112
SOURCE_IMAGE_DATE: 1996 07 27
SOURCE_IMAGE_ID: NAPP 9129 114
SOURCE_IMAGE_DATE: 1996 07 27
SOURCE_IMAGE_ID: NAPP 9139 164
SOURCE_IMAGE_DATE: 1996 08 26
SOURCE_DEM_DATE: 1956 00 00
AGENCY: WESTERN MAPPING CENTER (WMC)
PRODUCER: ANALYTICAL SURVEYS INC.
PRODUCTION_SYSTEM: ORBIT OR_RECTIFY V.5.2
COMPRESSION: UNDEFINED
STANDARD_VERSION: 1996 12
METADATA_DATE: 2000 12 17
DATA_FILE_SIZE: 44242560
BYTE_COUNT: 5760
