FILENAME: O4510949.NWS.831377.tif
QUADRANGLE_NAME: LITTLE PARK MOUNTAIN
QUADRANT: NW
WEST_LONGITUDE: -110 0 0.00000
EAST_LONGITUDE: -109 56 15.00000
NORTH_LATITUDE: 45 15 0.00000
SOUTH_LATITUDE: 45 11 15.00000
PRODUCTION_DATE: 1998 1 14
RASTER_ORDER: LEFT_RIGHT/TOP_BOTTOM
BAND_ORGANIZATION: SINGLE FILE
BAND_CONTENT: BLACK&WHITE
BAND_CONTENT: UNDEFINED
BAND_CONTENT: UNDEFINED
BITS_PER_PIXEL: 8
SAMPLES_AND_LINES: 5657 7616
HORIZONTAL_DATUM: NAD83
HORIZONTAL_COORDINATE_SYSTEM: UTM
COORDINATE_ZONE: 12
HORIZONTAL_UNITS: METERS
HORIZONTAL_RESOLUTION: 1.00000
SECONDARY_HORIZONTAL_DATUM: NAD27
XY_ORIGIN: 578112.00000 5011572.00000
SECONDARY_XY_ORIGIN: 578172.24700 5011362.06000
NATION: US
NATION: "SCIENCE
STATE: MT
NW_QUAD_CORNER_XY: 578471.77200 5011209.19800
NE_QUAD_CORNER_XY: 583376.25400 5011271.89600
SE_QUAD_CORNERY_XY: 583467.65600 5004328.67800
SW_QUAD_CORNER_XY: 578557.79600 5004265.97900
SECONDARY_NW_QUAD_XY: 578474.10100 5010991.80600
SECONDARY_NE_QUAD_XY: 583378.72800 5011054.50600
SECONDARY_SE_QUAD_XY: 583470.12900 5004111.34100
SECONDARY_SW_QUAD_XY: 578560.12400 5004048.64000
RMSE_XY: 3.80000
IMAGE_SOURCE: BLACK AND WHITE FILM
SOURCE_IMAGE_ID: NAPP 3832 020
SOURCE_IMAGE_DATE: 1992 09 22
SOURCE_IMAGE_ID: NAPP 3857 161
SOURCE_IMAGE_DATE: 1991 08 30
SOURCE_IMAGE_ID: NAPP 3832 058
SOURCE_IMAGE_DATE: 1992 09 22
SOURCE_IMAGE_ID: NAPP 3832 056
SOURCE_IMAGE_DATE: 1992 09 22
SOURCE_IMAGE_ID: NAPP 3832 021
SOURCE_IMAGE_DATE: 1992 09 22
SOURCE_DEM_DATE: 1997 01 01
AGENCY: WESTERN MAPPING CENTER (WMC)
PRODUCER: UNDEFINED
PRODUCTION_SYSTEM: GIS/MAGIC
COMPRESSION: UNDEFINED
STANDARD_VERSION: 1996 12
METADATA_DATE: 1998 01 15
DATA_FILE_SIZE: 43089369
BYTE_COUNT: 5657
