FILENAME: O4510949.NES.831374.tif
QUADRANGLE_NAME: LITTLE PARK MOUNTAIN
QUADRANT: NE
WEST_LONGITUDE: -109 56 15.00000
EAST_LONGITUDE: -109 52 30.00000
NORTH_LATITUDE: 45 15 0.00000
SOUTH_LATITUDE: 45 11 15.00000
PRODUCTION_DATE: 1998 1 14
RASTER_ORDER: LEFT_RIGHT/TOP_BOTTOM
BAND_ORGANIZATION: SINGLE FILE
BAND_CONTENT: BLACK&WHITE
BAND_CONTENT: UNDEFINED
BAND_CONTENT: UNDEFINED
BITS_PER_PIXEL: 8
SAMPLES_AND_LINES: 5662 7620
HORIZONTAL_DATUM: NAD83
HORIZONTAL_COORDINATE_SYSTEM: UTM
COORDINATE_ZONE: 12
HORIZONTAL_UNITS: METERS
HORIZONTAL_RESOLUTION: 1.00000
SECONDARY_HORIZONTAL_DATUM: NAD27
XY_ORIGIN: 583017.00000 5011639.00000
SECONDARY_XY_ORIGIN: 583077.20200 5011429.01200
NATION: US
NATION: "SCIENCE
STATE: MT
NW_QUAD_CORNER_XY: 583376.25400 5011271.89600
NE_QUAD_CORNER_XY: 588280.73500 5011338.39500
SE_QUAD_CORNERY_XY: 588377.51500 5004395.17800
SW_QUAD_CORNER_XY: 583467.65600 5004328.67800
SECONDARY_NW_QUAD_XY: 583378.72800 5011054.50600
SECONDARY_NE_QUAD_XY: 588283.35500 5011121.00600
SECONDARY_SE_QUAD_XY: 588380.13400 5004177.84200
SECONDARY_SW_QUAD_XY: 583470.12900 5004111.34100
RMSE_XY: 5.20000
IMAGE_SOURCE: BLACK AND WHITE FILM
SOURCE_IMAGE_ID: NAPP 3832 038
SOURCE_IMAGE_DATE: 1992 09 22
SOURCE_IMAGE_ID: NAPP 3832 058
SOURCE_IMAGE_DATE: 1992 09 22
SOURCE_IMAGE_ID: NAPP 3832 057
SOURCE_IMAGE_DATE: 1992 09 22
SOURCE_IMAGE_ID: NAPP 3832 021
SOURCE_IMAGE_DATE: 1992 09 22
SOURCE_IMAGE_ID: NAPP 3832 019
SOURCE_IMAGE_DATE: 1992 09 22
SOURCE_DEM_DATE: 1997 01 01
AGENCY: WESTERN MAPPING CENTER (WMC)
PRODUCER: UNDEFINED
PRODUCTION_SYSTEM: GIS/MAGIC
COMPRESSION: UNDEFINED
STANDARD_VERSION: 1996 12
METADATA_DATE: 1998 01 15
DATA_FILE_SIZE: 43150102
BYTE_COUNT: 5662
