FILENAME: O4510951.SES.831428.tif
QUADRANGLE_NAME: ALPINE
QUADRANT: SE
WEST_LONGITUDE: -109 41 15.00000
EAST_LONGITUDE: -109 37 30.00000
NORTH_LATITUDE: 45 11 15.00000
SOUTH_LATITUDE: 45 7 30.00000
PRODUCTION_DATE: 1998 1 14
RASTER_ORDER: LEFT_RIGHT/TOP_BOTTOM
BAND_ORGANIZATION: SINGLE FILE
BAND_CONTENT: BLACK&WHITE
BAND_CONTENT: UNDEFINED
BAND_CONTENT: UNDEFINED
BITS_PER_PIXEL: 8
SAMPLES_AND_LINES: 5688 7635
HORIZONTAL_DATUM: NAD83
HORIZONTAL_COORDINATE_SYSTEM: UTM
COORDINATE_ZONE: 12
HORIZONTAL_UNITS: METERS
HORIZONTAL_RESOLUTION: 1.00000
SECONDARY_HORIZONTAL_DATUM: NAD27
XY_ORIGIN: 602749.00000 5005000.00000
SECONDARY_XY_ORIGIN: 602809.11200 5004789.92000
NATION: US
NATION: "SCIENCE
STATE: MT
NW_QUAD_CORNER_XY: 603107.08800 5004617.48300
NE_QUAD_CORNER_XY: 608016.94500 5004699.18800
SE_QUAD_CORNERY_XY: 608135.10900 4997756.04700
SW_QUAD_CORNER_XY: 603219.88000 4997674.34200
SECONDARY_NW_QUAD_XY: 603110.14400 5004400.15400
SECONDARY_NE_QUAD_XY: 608020.14600 5004481.86100
SECONDARY_SE_QUAD_XY: 608138.31000 4997538.77400
SECONDARY_SW_QUAD_XY: 603222.93500 4997457.06600
RMSE_XY: 5.00000
IMAGE_SOURCE: BLACK AND WHITE FILM
SOURCE_IMAGE_ID: NAPP 7821 005
SOURCE_IMAGE_DATE: 1994 08 23
SOURCE_IMAGE_ID: NAPP 7825 148
SOURCE_IMAGE_DATE: 1994 08 25
SOURCE_IMAGE_ID: NAPP 3826 072
SOURCE_IMAGE_DATE: 1991 09 04
SOURCE_IMAGE_ID: NAPP 7829 060
SOURCE_IMAGE_DATE: 1994 09 05
SOURCE_IMAGE_ID: NAPP 3832 136
SOURCE_IMAGE_DATE: 1992 09 22
SOURCE_DEM_DATE: 1986 00 00
AGENCY: WESTERN MAPPING CENTER (WMC)
PRODUCER: UNDEFINED
PRODUCTION_SYSTEM: GIS/MAGIC
COMPRESSION: UNDEFINED
STANDARD_VERSION: 1996 12
METADATA_DATE: 1998 01 15
DATA_FILE_SIZE: 43433568
BYTE_COUNT: 5688
