FILENAME: O4510952.SES.1118741.tif
QUADRANGLE_NAME: SYLVAN PEAK
QUADRANT: SE
WEST_LONGITUDE: -109 33 45.00000
EAST_LONGITUDE: -109 30 0.00000
NORTH_LATITUDE: 45 11 15.00000
SOUTH_LATITUDE: 45 7 30.00000
PRODUCTION_DATE: 2000 12 05
RASTER_ORDER: LEFT_RIGHT/TOP_BOTTOM
BAND_ORGANIZATION: SINGLE FILE
BAND_CONTENT: BLACK&WHITE
BAND_CONTENT: UNDEFINED
BAND_CONTENT: UNDEFINED
BITS_PER_PIXEL: 8
SAMPLES_AND_LINES: 5700 7680
HORIZONTAL_DATUM: NAD83
HORIZONTAL_COORDINATE_SYSTEM: UTM
COORDINATE_ZONE: 12
HORIZONTAL_UNITS: METERS
HORIZONTAL_RESOLUTION: 1.00000
SECONDARY_HORIZONTAL_DATUM: NAD27
XY_ORIGIN: 612570.00000 5005200.00000
SECONDARY_XY_ORIGIN: 612630.02200 5004989.94100
NATION: US
STATE: MT
NW_QUAD_CORNER_XY: 612926.80100 5004784.69400
NE_QUAD_CORNER_XY: 617836.65600 5004874.00200
SE_QUAD_CORNERY_XY: 617965.56800 4997930.86300
SW_QUAD_CORNER_XY: 613050.33900 4997841.55400
SECONDARY_NW_QUAD_XY: 612930.14800 5004567.37000
SECONDARY_NE_QUAD_XY: 617840.14900 5004656.68100
SECONDARY_SE_QUAD_XY: 617969.05900 4997713.59500
SECONDARY_SW_QUAD_XY: 613053.68500 4997624.28400
RMSE_XY: 2.43000
IMAGE_SOURCE: BLACK AND WHITE FILM
SOURCE_IMAGE_ID: NAPP 11012 134
SOURCE_IMAGE_DATE: 1998 08 25
SOURCE_IMAGE_ID: NAPP 11012 45
SOURCE_IMAGE_DATE: 1998 08 25
SOURCE_IMAGE_ID: NAPP 11012 136
SOURCE_IMAGE_DATE: 1998 08 25
SOURCE_DEM_DATE: 2000 01 01
AGENCY: WESTERN MAPPING CENTER (WMC)
PRODUCER: ANALYTICAL SURVEYS INC.
PRODUCTION_SYSTEM: ORBIT OR_RECTIFY V.5.2
COMPRESSION: UNDEFINED
STANDARD_VERSION: 1996 12
METADATA_DATE: 2000 12 15
DATA_FILE_SIZE: 43781700
BYTE_COUNT: 5700
