FILENAME: O4510952.NWS.1118740.tif
QUADRANGLE_NAME: SYLVAN PEAK
QUADRANT: NW
WEST_LONGITUDE: -109 37 30.00000
EAST_LONGITUDE: -109 33 45.00000
NORTH_LATITUDE: 45 15 0.00000
SOUTH_LATITUDE: 45 11 15.00000
PRODUCTION_DATE: 2000 12 05
RASTER_ORDER: LEFT_RIGHT/TOP_BOTTOM
BAND_ORGANIZATION: SINGLE FILE
BAND_CONTENT: BLACK&WHITE
BAND_CONTENT: UNDEFINED
BAND_CONTENT: UNDEFINED
BITS_PER_PIXEL: 8
SAMPLES_AND_LINES: 5700 7650
HORIZONTAL_DATUM: NAD83
HORIZONTAL_COORDINATE_SYSTEM: UTM
COORDINATE_ZONE: 12
HORIZONTAL_UNITS: METERS
HORIZONTAL_RESOLUTION: 1.00000
SECONDARY_HORIZONTAL_DATUM: NAD27
XY_ORIGIN: 607530.00000 5012040.00000
SECONDARY_XY_ORIGIN: 607590.00500 5011829.89700
NATION: US
STATE: MT
NW_QUAD_CORNER_XY: 607898.65200 5011642.40100
NE_QUAD_CORNER_XY: 612803.12800 5011727.90600
SE_QUAD_CORNERY_XY: 612926.80100 5004784.69400
SW_QUAD_CORNER_XY: 608016.94500 5004699.18800
SECONDARY_NW_QUAD_XY: 607901.85400 5011425.02200
SECONDARY_NE_QUAD_XY: 612806.47600 5011510.52900
SECONDARY_SE_QUAD_XY: 612930.14800 5004567.37000
SECONDARY_SW_QUAD_XY: 608020.14600 5004481.86200
RMSE_XY: 4.79000
IMAGE_SOURCE: BLACK AND WHITE FILM
SOURCE_IMAGE_ID: NAPP 11012 56
SOURCE_IMAGE_DATE: 1998 08 25
SOURCE_IMAGE_ID: NAPP 11012 146
SOURCE_IMAGE_DATE: 1998 08 25
SOURCE_DEM_DATE: 2000 01 01
AGENCY: WESTERN MAPPING CENTER (WMC)
PRODUCER: ANALYTICAL SURVEYS INC.
PRODUCTION_SYSTEM: ORBIT OR_RECTIFY V.5.2
COMPRESSION: UNDEFINED
STANDARD_VERSION: 1996 12
METADATA_DATE: 2000 12 15
DATA_FILE_SIZE: 43610700
BYTE_COUNT: 5700
