FILENAME: O4510952.NES.1118739.tif
QUADRANGLE_NAME: SYLVAN PEAK
QUADRANT: NE
WEST_LONGITUDE: -109 33 45.00000
EAST_LONGITUDE: -109 30 0.00000
NORTH_LATITUDE: 45 15 0.00000
SOUTH_LATITUDE: 45 11 15.00000
PRODUCTION_DATE: 2000 12 05
RASTER_ORDER: LEFT_RIGHT/TOP_BOTTOM
BAND_ORGANIZATION: SINGLE FILE
BAND_CONTENT: BLACK&WHITE
BAND_CONTENT: UNDEFINED
BAND_CONTENT: UNDEFINED
BITS_PER_PIXEL: 8
SAMPLES_AND_LINES: 5730 7680
HORIZONTAL_DATUM: NAD83
HORIZONTAL_COORDINATE_SYSTEM: UTM
COORDINATE_ZONE: 12
HORIZONTAL_UNITS: METERS
HORIZONTAL_RESOLUTION: 1.00000
SECONDARY_HORIZONTAL_DATUM: NAD27
XY_ORIGIN: 612420.00000 5012130.00000
SECONDARY_XY_ORIGIN: 612479.97300 5011919.91300
NATION: US
STATE: MT
NW_QUAD_CORNER_XY: 612803.12800 5011727.90600
NE_QUAD_CORNER_XY: 617707.60400 5011817.21300
SE_QUAD_CORNERY_XY: 617836.65600 5004874.00200
SW_QUAD_CORNER_XY: 612926.80100 5004784.69400
SECONDARY_NW_QUAD_XY: 612806.47600 5011510.52900
SECONDARY_NE_QUAD_XY: 617711.09800 5011599.83900
SECONDARY_SE_QUAD_XY: 617840.14900 5004656.68100
SECONDARY_SW_QUAD_XY: 612930.14800 5004567.37000
RMSE_XY: 3.60000
IMAGE_SOURCE: BLACK AND WHITE FILM
SOURCE_IMAGE_ID: NAPP 11012 45
SOURCE_IMAGE_DATE: 1998 08 25
SOURCE_IMAGE_ID: NAPP 11012 56
SOURCE_IMAGE_DATE: 1998 08 25
SOURCE_DEM_DATE: 2000 01 01
AGENCY: WESTERN MAPPING CENTER (WMC)
PRODUCER: ANALYTICAL SURVEYS INC.
PRODUCTION_SYSTEM: ORBIT OR_RECTIFY V.5.2
COMPRESSION: UNDEFINED
STANDARD_VERSION: 1996 12
METADATA_DATE: 2000 12 13
DATA_FILE_SIZE: 44012130
BYTE_COUNT: 5730
