FILENAME: O4510954.NWS.1121488.tif
QUADRANGLE_NAME: RED LODGE WEST
QUADRANT: NW
WEST_LONGITUDE: -109 22 30.00000
EAST_LONGITUDE: -109 18 45.00000
NORTH_LATITUDE: 45 15 0.00000
SOUTH_LATITUDE: 45 11 15.00000
PRODUCTION_DATE: 2000 12 16
RASTER_ORDER: LEFT_RIGHT/TOP_BOTTOM
BAND_ORGANIZATION: SINGLE FILE
BAND_CONTENT: BLACK&WHITE
BAND_CONTENT: UNDEFINED
BAND_CONTENT: UNDEFINED
BITS_PER_PIXEL: 8
SAMPLES_AND_LINES: 5730 7680
HORIZONTAL_DATUM: NAD83
HORIZONTAL_COORDINATE_SYSTEM: UTM
COORDINATE_ZONE: 12
HORIZONTAL_UNITS: METERS
HORIZONTAL_RESOLUTION: 1.00000
SECONDARY_HORIZONTAL_DATUM: NAD27
XY_ORIGIN: 627150.00000 5012430.00000
SECONDARY_XY_ORIGIN: 627209.85900 5012219.96600
NATION: US
STATE: MT
NW_QUAD_CORNER_XY: 627516.55300 5012007.23300
NE_QUAD_CORNER_XY: 632421.02500 5012107.94700
SE_QUAD_CORNERY_XY: 632566.21800 5005164.74100
SW_QUAD_CORNER_XY: 627656.36500 5005064.02500
SECONDARY_NW_QUAD_XY: 627520.33700 5011789.86500
SECONDARY_NE_QUAD_XY: 632424.95600 5011890.58200
SECONDARY_SE_QUAD_XY: 632570.14700 5004947.42800
SECONDARY_SW_QUAD_XY: 627660.14800 5004846.71000
RMSE_XY: 2.74000
IMAGE_SOURCE: BLACK AND WHITE FILM
SOURCE_IMAGE_ID: NAPP 11012 18
SOURCE_IMAGE_DATE: 1998 08 25
SOURCE_IMAGE_ID: NAPP 11012 20
SOURCE_IMAGE_DATE: 1998 08 25
SOURCE_IMAGE_ID: NAPP 9149 44
SOURCE_IMAGE_DATE: 1996 09 02
SOURCE_DEM_DATE: 1975 00 00
AGENCY: WESTERN MAPPING CENTER (WMC)
PRODUCER: ANALYTICAL SURVEYS INC.
PRODUCTION_SYSTEM: ORBIT OR_RECTIFY V.5.2
COMPRESSION: UNDEFINED
STANDARD_VERSION: 1996 12
METADATA_DATE: 2000 12 18
DATA_FILE_SIZE: 44012130
BYTE_COUNT: 5730
