FILENAME: O4510955.NES.1121491.tif
QUADRANGLE_NAME: RED LODGE EAST
QUADRANT: NE
WEST_LONGITUDE: -109 11 15.00000
EAST_LONGITUDE: -109 7 30.00000
NORTH_LATITUDE: 45 15 0.00000
SOUTH_LATITUDE: 45 11 15.00000
PRODUCTION_DATE: 2000 12 16
RASTER_ORDER: LEFT_RIGHT/TOP_BOTTOM
BAND_ORGANIZATION: SINGLE FILE
BAND_CONTENT: BLACK&WHITE
BAND_CONTENT: UNDEFINED
BAND_CONTENT: UNDEFINED
BITS_PER_PIXEL: 8
SAMPLES_AND_LINES: 5760 7710
HORIZONTAL_DATUM: NAD83
HORIZONTAL_COORDINATE_SYSTEM: UTM
COORDINATE_ZONE: 12
HORIZONTAL_UNITS: METERS
HORIZONTAL_RESOLUTION: 1.00000
SECONDARY_HORIZONTAL_DATUM: NAD27
XY_ORIGIN: 641850.00000 5012760.00000
SECONDARY_XY_ORIGIN: 641909.71600 5012549.99400
NATION: US
STATE: MT
NW_QUAD_CORNER_XY: 642229.96700 5012320.78300
NE_QUAD_CORNER_XY: 647134.43600 5012432.90600
SE_QUAD_CORNERY_XY: 647295.77200 5005489.70400
SW_QUAD_CORNER_XY: 642385.92100 5005377.58000
SECONDARY_NW_QUAD_XY: 642234.18800 5012103.42400
SECONDARY_NE_QUAD_XY: 647138.80300 5012215.55000
SECONDARY_SE_QUAD_XY: 647300.13800 5005272.40100
SECONDARY_SW_QUAD_XY: 642390.14200 5005160.27300
RMSE_XY: 1.88000
IMAGE_SOURCE: BLACK AND WHITE FILM
SOURCE_IMAGE_ID: NAPP 9130 90
SOURCE_IMAGE_DATE: 1996 07 27
SOURCE_DEM_DATE: 1968 00 00
AGENCY: WESTERN MAPPING CENTER (WMC)
PRODUCER: ANALYTICAL SURVEYS INC.
PRODUCTION_SYSTEM: ORBIT OR_RECTIFY V.5.2
COMPRESSION: UNDEFINED
STANDARD_VERSION: 1996 12
METADATA_DATE: 2000 12 18
DATA_FILE_SIZE: 44415360
BYTE_COUNT: 5760
