FILENAME: O4510956.SWS.1121498.tif
QUADRANGLE_NAME: BELFRY
QUADRANT: SW
WEST_LONGITUDE: -109 7 30.00000
EAST_LONGITUDE: -109 3 45.00000
NORTH_LATITUDE: 45 11 15.00000
SOUTH_LATITUDE: 45 7 30.00000
PRODUCTION_DATE: 2000 12 18
RASTER_ORDER: LEFT_RIGHT/TOP_BOTTOM
BAND_ORGANIZATION: SINGLE FILE
BAND_CONTENT: BLACK&WHITE
BAND_CONTENT: UNDEFINED
BAND_CONTENT: UNDEFINED
BITS_PER_PIXEL: 8
SAMPLES_AND_LINES: 5760 7710
HORIZONTAL_DATUM: NAD83
HORIZONTAL_COORDINATE_SYSTEM: UTM
COORDINATE_ZONE: 12
HORIZONTAL_UNITS: METERS
HORIZONTAL_RESOLUTION: 1.00000
SECONDARY_HORIZONTAL_DATUM: NAD27
XY_ORIGIN: 646920.00000 5005920.00000
SECONDARY_XY_ORIGIN: 646979.63100 5005709.99600
NATION: US
STATE: MT
NW_QUAD_CORNER_XY: 647295.77200 5005489.70400
NE_QUAD_CORNER_XY: 652205.62100 5005605.63200
SE_QUAD_CORNERY_XY: 652372.15700 4998662.50000
SW_QUAD_CORNER_XY: 647456.93100 4998546.57100
SECONDARY_NW_QUAD_XY: 647300.13800 5005272.40100
SECONDARY_NE_QUAD_XY: 652210.13300 5005388.33200
SECONDARY_SE_QUAD_XY: 652376.66700 4998445.25300
SECONDARY_SW_QUAD_XY: 647461.29600 4998329.32100
RMSE_XY: 1.71000
IMAGE_SOURCE: BLACK AND WHITE FILM
SOURCE_IMAGE_ID: NAPP 11010 30
SOURCE_IMAGE_DATE: 1998 08 13
SOURCE_IMAGE_ID: NAPP 9129 118
SOURCE_IMAGE_DATE: 1996 07 27
SOURCE_DEM_DATE: 1969 00 00
AGENCY: WESTERN MAPPING CENTER (WMC)
PRODUCER: ANALYTICAL SURVEYS INC.
PRODUCTION_SYSTEM: ORBIT OR_RECTIFY V.5.2
COMPRESSION: UNDEFINED
STANDARD_VERSION: 1996 12
METADATA_DATE: 2000 12 20
DATA_FILE_SIZE: 44415360
BYTE_COUNT: 5760
