FILENAME: O4510959.NWS.831431.tif
QUADRANGLE_NAME: CASTLE MOUNTAIN
QUADRANT: NW
WEST_LONGITUDE: -109 45 0.00000
EAST_LONGITUDE: -109 41 15.00000
NORTH_LATITUDE: 45 7 30.00000
SOUTH_LATITUDE: 45 3 45.00000
PRODUCTION_DATE: 1998 1 15
RASTER_ORDER: LEFT_RIGHT/TOP_BOTTOM
BAND_ORGANIZATION: SINGLE FILE
BAND_CONTENT: BLACK&WHITE
BAND_CONTENT: UNDEFINED
BAND_CONTENT: UNDEFINED
BITS_PER_PIXEL: 8
SAMPLES_AND_LINES: 5688 7631
HORIZONTAL_DATUM: NAD83
HORIZONTAL_COORDINATE_SYSTEM: UTM
COORDINATE_ZONE: 12
HORIZONTAL_UNITS: METERS
HORIZONTAL_RESOLUTION: 1.00000
SECONDARY_HORIZONTAL_DATUM: NAD27
XY_ORIGIN: 597946.00000 4997975.00000
SECONDARY_XY_ORIGIN: 598006.24500 4997764.95200
NATION: US
NATION: "SCIENCE
STATE: MT
NW_QUAD_CORNER_XY: 598304.64900 4997596.43800
NE_QUAD_CORNER_XY: 603219.88000 4997674.34200
SE_QUAD_CORNERY_XY: 603332.54700 4990731.27300
SW_QUAD_CORNER_XY: 598411.95000 4990653.36900
SECONDARY_NW_QUAD_XY: 598307.55900 4997379.16000
SECONDARY_NE_QUAD_XY: 603222.93500 4997457.06600
SECONDARY_SE_QUAD_XY: 603335.60100 4990514.05100
SECONDARY_SW_QUAD_XY: 598414.85900 4990436.14500
RMSE_XY: 4.10000
IMAGE_SOURCE: BLACK AND WHITE FILM
SOURCE_IMAGE_ID: NAPP 7829 060
SOURCE_IMAGE_DATE: 1994 09 05
SOURCE_IMAGE_ID: NAPP 7825 150
SOURCE_IMAGE_DATE: 1994 08 25
SOURCE_IMAGE_ID: NAPP 7825 146
SOURCE_IMAGE_DATE: 1994 08 25
SOURCE_IMAGE_ID: NAPP 7825 148
SOURCE_IMAGE_DATE: 1994 08 25
SOURCE_IMAGE_ID: NAPP 7829 059
SOURCE_IMAGE_DATE: 1994 09 05
SOURCE_DEM_DATE: 1997 01 01
AGENCY: WESTERN MAPPING CENTER (WMC)
PRODUCER: UNDEFINED
PRODUCTION_SYSTEM: GIS/MAGIC
COMPRESSION: UNDEFINED
STANDARD_VERSION: 1996 12
METADATA_DATE: 1998 01 15
DATA_FILE_SIZE: 43410816
BYTE_COUNT: 5688
