FILENAME: O4510960.SES.1118745.tif
QUADRANGLE_NAME: SILVER RUN PEAK
QUADRANT: SE
WEST_LONGITUDE: -109 33 45.00000
EAST_LONGITUDE: -109 30 0.00000
NORTH_LATITUDE: 45 3 45.00000
SOUTH_LATITUDE: 45 0 0.00000
PRODUCTION_DATE: 2000 12 05
RASTER_ORDER: LEFT_RIGHT/TOP_BOTTOM
BAND_ORGANIZATION: SINGLE FILE
BAND_CONTENT: BLACK&WHITE
BAND_CONTENT: UNDEFINED
BAND_CONTENT: UNDEFINED
BITS_PER_PIXEL: 8
SAMPLES_AND_LINES: 5730 7680
HORIZONTAL_DATUM: NAD83
HORIZONTAL_COORDINATE_SYSTEM: UTM
COORDINATE_ZONE: 12
HORIZONTAL_UNITS: METERS
HORIZONTAL_RESOLUTION: 1.00000
SECONDARY_HORIZONTAL_DATUM: NAD27
XY_ORIGIN: 612810.00000 4991310.00000
SECONDARY_XY_ORIGIN: 612870.12100 4991100.00100
NATION: US
STATE: MT
STATE: WY
NW_QUAD_CORNER_XY: 613173.74100 4990898.48600
NE_QUAD_CORNER_XY: 618094.33700 4990987.79500
SE_QUAD_CORNERY_XY: 618222.96600 4984044.79800
SW_QUAD_CORNER_XY: 613297.00700 4983955.48900
SECONDARY_NW_QUAD_XY: 613177.08600 4990681.27000
SECONDARY_NE_QUAD_XY: 618097.82800 4990770.58200
SECONDARY_SE_QUAD_XY: 618226.45500 4983827.64000
SECONDARY_SW_QUAD_XY: 613300.35100 4983738.32800
RMSE_XY: 3.05000
IMAGE_SOURCE: BLACK AND WHITE FILM
SOURCE_IMAGE_ID: NAPP 11012 138
SOURCE_IMAGE_DATE: 1998 08 25
SOURCE_IMAGE_ID: NAPP 11012 141
SOURCE_IMAGE_DATE: 1998 08 25
SOURCE_IMAGE_ID: NAPP 11012 139
SOURCE_IMAGE_DATE: 1998 08 25
SOURCE_IMAGE_ID: NAPP 11012 137
SOURCE_IMAGE_DATE: 1998 08 25
SOURCE_IMAGE_ID: NAPP 11012 136
SOURCE_IMAGE_DATE: 1998 08 25
SOURCE_DEM_DATE: 2000 01 01
AGENCY: WESTERN MAPPING CENTER (WMC)
PRODUCER: ANALYTICAL SURVEYS INC.
PRODUCTION_SYSTEM: ORBIT OR_RECTIFY V.5.2
COMPRESSION: UNDEFINED
STANDARD_VERSION: 1996 12
METADATA_DATE: 2000 12 14
DATA_FILE_SIZE: 44012130
BYTE_COUNT: 5730
