FILENAME: O4510960.NES.1118743.tif
QUADRANGLE_NAME: SILVER RUN PEAK
QUADRANT: NE
WEST_LONGITUDE: -109 33 45.00000
EAST_LONGITUDE: -109 30 0.00000
NORTH_LATITUDE: 45 7 30.00000
SOUTH_LATITUDE: 45 3 45.00000
PRODUCTION_DATE: 2000 12 05
RASTER_ORDER: LEFT_RIGHT/TOP_BOTTOM
BAND_ORGANIZATION: SINGLE FILE
BAND_CONTENT: BLACK&WHITE
BAND_CONTENT: UNDEFINED
BAND_CONTENT: UNDEFINED
BITS_PER_PIXEL: 8
SAMPLES_AND_LINES: 5730 7650
HORIZONTAL_DATUM: NAD83
HORIZONTAL_COORDINATE_SYSTEM: UTM
COORDINATE_ZONE: 12
HORIZONTAL_UNITS: METERS
HORIZONTAL_RESOLUTION: 1.00000
SECONDARY_HORIZONTAL_DATUM: NAD27
XY_ORIGIN: 612690.00000 4998240.00000
SECONDARY_XY_ORIGIN: 612750.07200 4998029.97100
NATION: US
STATE: MT
NW_QUAD_CORNER_XY: 613050.33900 4997841.55400
NE_QUAD_CORNER_XY: 617965.56800 4997930.86300
SE_QUAD_CORNERY_XY: 618094.33700 4990987.79500
SW_QUAD_CORNER_XY: 613173.74100 4990898.48600
SECONDARY_NW_QUAD_XY: 613053.68500 4997624.28400
SECONDARY_NE_QUAD_XY: 617969.05900 4997713.59500
SECONDARY_SE_QUAD_XY: 618097.82800 4990770.58200
SECONDARY_SW_QUAD_XY: 613177.08600 4990681.27000
RMSE_XY: 3.82000
IMAGE_SOURCE: BLACK AND WHITE FILM
SOURCE_IMAGE_ID: NAPP 11012 134
SOURCE_IMAGE_DATE: 1998 08 25
SOURCE_IMAGE_ID: NAPP 11012 135
SOURCE_IMAGE_DATE: 1998 08 25
SOURCE_IMAGE_ID: NAPP 11012 137
SOURCE_IMAGE_DATE: 1998 08 25
SOURCE_IMAGE_ID: NAPP 11012 138
SOURCE_IMAGE_DATE: 1998 08 25
SOURCE_IMAGE_ID: NAPP 11012 143
SOURCE_IMAGE_DATE: 1998 08 25
SOURCE_DEM_DATE: 2000 01 01
AGENCY: WESTERN MAPPING CENTER (WMC)
PRODUCER: ANALYTICAL SURVEYS INC.
PRODUCTION_SYSTEM: ORBIT OR_RECTIFY V.5.2
COMPRESSION: UNDEFINED
STANDARD_VERSION: 1996 12
METADATA_DATE: 2000 12 14
DATA_FILE_SIZE: 43840230
BYTE_COUNT: 5730
