FILENAME: O4510961.SWS.1121438.tif
QUADRANGLE_NAME: BLACK PYRAMID MOUNTAIN
QUADRANT: SW
WEST_LONGITUDE: -109 30 0.00000
EAST_LONGITUDE: -109 26 15.00000
NORTH_LATITUDE: 45 3 45.00000
SOUTH_LATITUDE: 45 0 0.00000
PRODUCTION_DATE: 2000 12 18
RASTER_ORDER: LEFT_RIGHT/TOP_BOTTOM
BAND_ORGANIZATION: SINGLE FILE
BAND_CONTENT: BLACK&WHITE
BAND_CONTENT: UNDEFINED
BAND_CONTENT: UNDEFINED
BITS_PER_PIXEL: 8
SAMPLES_AND_LINES: 5730 7680
HORIZONTAL_DATUM: NAD83
HORIZONTAL_COORDINATE_SYSTEM: UTM
COORDINATE_ZONE: 12
HORIZONTAL_UNITS: METERS
HORIZONTAL_RESOLUTION: 1.00000
SECONDARY_HORIZONTAL_DATUM: NAD27
XY_ORIGIN: 617730.00000 4991400.00000
SECONDARY_XY_ORIGIN: 617790.05300 4991190.00000
NATION: US
STATE: MT
STATE: WY
NW_QUAD_CORNER_XY: 618094.33700 4990987.79500
NE_QUAD_CORNER_XY: 623014.93400 4991080.90700
SE_QUAD_CORNERY_XY: 623148.92500 4984137.91000
SW_QUAD_CORNER_XY: 618222.96600 4984044.79800
SECONDARY_NW_QUAD_XY: 618097.82800 4990770.58200
SECONDARY_NE_QUAD_XY: 623018.57000 4990863.69600
SECONDARY_SE_QUAD_XY: 623152.55900 4983920.75400
SECONDARY_SW_QUAD_XY: 618226.45500 4983827.64000
RMSE_XY: 2.73000
IMAGE_SOURCE: BLACK AND WHITE FILM
SOURCE_IMAGE_ID: NAPP 11012 42
SOURCE_IMAGE_DATE: 1998 08 25
SOURCE_IMAGE_ID: NAPP 11012 27
SOURCE_IMAGE_DATE: 1998 08 25
SOURCE_IMAGE_ID: NAPP 11012 40
SOURCE_IMAGE_DATE: 1998 08 25
SOURCE_IMAGE_ID: NAPP 11012 138
SOURCE_IMAGE_DATE: 1998 08 25
SOURCE_DEM_DATE: 1981 00 00
AGENCY: WESTERN MAPPING CENTER (WMC)
PRODUCER: ANALYTICAL SURVEYS INC.
PRODUCTION_SYSTEM: ORBIT OR_RECTIFY V.5.2
COMPRESSION: UNDEFINED
STANDARD_VERSION: 1996 12
METADATA_DATE: 2000 12 27
DATA_FILE_SIZE: 44012130
BYTE_COUNT: 5730
