FILENAME: O4510961.NWS.1121436.tif
QUADRANGLE_NAME: BLACK PYRAMID MOUNTAIN
QUADRANT: NW
WEST_LONGITUDE: -109 30 0.00000
EAST_LONGITUDE: -109 26 15.00000
NORTH_LATITUDE: 45 7 30.00000
SOUTH_LATITUDE: 45 3 45.00000
PRODUCTION_DATE: 2000 12 18
RASTER_ORDER: LEFT_RIGHT/TOP_BOTTOM
BAND_ORGANIZATION: SINGLE FILE
BAND_CONTENT: BLACK&WHITE
BAND_CONTENT: UNDEFINED
BAND_CONTENT: UNDEFINED
BITS_PER_PIXEL: 8
SAMPLES_AND_LINES: 5760 7650
HORIZONTAL_DATUM: NAD83
HORIZONTAL_COORDINATE_SYSTEM: UTM
COORDINATE_ZONE: 12
HORIZONTAL_UNITS: METERS
HORIZONTAL_RESOLUTION: 1.00000
SECONDARY_HORIZONTAL_DATUM: NAD27
XY_ORIGIN: 617580.00000 4998330.00000
SECONDARY_XY_ORIGIN: 617640.01700 4998119.97400
NATION: US
STATE: MT
NW_QUAD_CORNER_XY: 617965.56800 4997930.86300
NE_QUAD_CORNER_XY: 622880.79600 4998023.97400
SE_QUAD_CORNERY_XY: 623014.93400 4991080.90700
SW_QUAD_CORNER_XY: 618094.33700 4990987.79500
SECONDARY_NW_QUAD_XY: 617969.05900 4997713.59500
SECONDARY_NE_QUAD_XY: 622884.43300 4997806.70900
SECONDARY_SE_QUAD_XY: 623018.57000 4990863.69600
SECONDARY_SW_QUAD_XY: 618097.82800 4990770.58200
RMSE_XY: 2.67000
IMAGE_SOURCE: BLACK AND WHITE FILM
SOURCE_IMAGE_ID: NAPP 11012 40
SOURCE_IMAGE_DATE: 1998 08 25
SOURCE_IMAGE_ID: NAPP 11012 29
SOURCE_IMAGE_DATE: 1998 08 25
SOURCE_IMAGE_ID: NAPP 11012 38
SOURCE_IMAGE_DATE: 1998 08 25
SOURCE_DEM_DATE: 1981 00 00
AGENCY: WESTERN MAPPING CENTER (WMC)
PRODUCER: ANALYTICAL SURVEYS INC.
PRODUCTION_SYSTEM: ORBIT OR_RECTIFY V.5.2
COMPRESSION: UNDEFINED
STANDARD_VERSION: 1996 12
METADATA_DATE: 2000 12 27
DATA_FILE_SIZE: 44069760
BYTE_COUNT: 5760
