FILENAME: O4510962.SES.1121441.tif
QUADRANGLE_NAME: MOUNT MAURICE
QUADRANT: SE
WEST_LONGITUDE: -109 18 45.00000
EAST_LONGITUDE: -109 15 0.00000
NORTH_LATITUDE: 45 3 45.00000
SOUTH_LATITUDE: 45 0 0.00000
PRODUCTION_DATE: 2000 12 18
RASTER_ORDER: LEFT_RIGHT/TOP_BOTTOM
BAND_ORGANIZATION: SINGLE FILE
BAND_CONTENT: BLACK&WHITE
BAND_CONTENT: UNDEFINED
BAND_CONTENT: UNDEFINED
BITS_PER_PIXEL: 8
SAMPLES_AND_LINES: 5760 7680
HORIZONTAL_DATUM: NAD83
HORIZONTAL_COORDINATE_SYSTEM: UTM
COORDINATE_ZONE: 12
HORIZONTAL_UNITS: METERS
HORIZONTAL_RESOLUTION: 1.00000
SECONDARY_HORIZONTAL_DATUM: NAD27
XY_ORIGIN: 632490.00000 4991700.00000
SECONDARY_XY_ORIGIN: 632549.77100 4991490.05000
NATION: US
STATE: MT
STATE: WY
NW_QUAD_CORNER_XY: 632856.12700 4991278.53700
NE_QUAD_CORNER_XY: 637776.72300 4991383.05700
SE_QUAD_CORNERY_XY: 637926.80200 4984440.06000
SW_QUAD_CORNER_XY: 633000.84200 4984335.54000
SECONDARY_NW_QUAD_XY: 632860.05300 4991061.33200
SECONDARY_NE_QUAD_XY: 637780.79500 4991165.85500
SECONDARY_SE_QUAD_XY: 637930.87300 4984222.91300
SECONDARY_SW_QUAD_XY: 633004.76800 4984118.39000
RMSE_XY: 6.08000
IMAGE_SOURCE: BLACK AND WHITE FILM
SOURCE_IMAGE_ID: NAPP 11012 9
SOURCE_IMAGE_DATE: 1998 08 25
SOURCE_IMAGE_ID: NAPP 9162 16
SOURCE_IMAGE_DATE: 1998 07 15
SOURCE_IMAGE_ID: NAPP 11012 11
SOURCE_IMAGE_DATE: 1998 08 25
SOURCE_DEM_DATE: 2000 01 01
AGENCY: WESTERN MAPPING CENTER (WMC)
PRODUCER: ANALYTICAL SURVEYS INC.
PRODUCTION_SYSTEM: ORBIT OR_RECTIFY V.5.2
COMPRESSION: UNDEFINED
STANDARD_VERSION: 1996 12
METADATA_DATE: 2000 12 27
DATA_FILE_SIZE: 44242560
BYTE_COUNT: 5760
