FILENAME: O4510964.NWS.1121500.tif
QUADRANGLE_NAME: HOLLENBECK DRAW
QUADRANT: NW
WEST_LONGITUDE: -109 7 30.00000
EAST_LONGITUDE: -109 3 45.00000
NORTH_LATITUDE: 45 7 30.00000
SOUTH_LATITUDE: 45 3 45.00000
PRODUCTION_DATE: 2000 12 18
RASTER_ORDER: LEFT_RIGHT/TOP_BOTTOM
BAND_ORGANIZATION: SINGLE FILE
BAND_CONTENT: BLACK&WHITE
BAND_CONTENT: UNDEFINED
BAND_CONTENT: UNDEFINED
BITS_PER_PIXEL: 8
SAMPLES_AND_LINES: 5760 7710
HORIZONTAL_DATUM: NAD83
HORIZONTAL_COORDINATE_SYSTEM: UTM
COORDINATE_ZONE: 12
HORIZONTAL_UNITS: METERS
HORIZONTAL_RESOLUTION: 1.00000
SECONDARY_HORIZONTAL_DATUM: NAD27
XY_ORIGIN: 647100.00000 4998990.00000
SECONDARY_XY_ORIGIN: 647159.60100 4998780.01200
NATION: US
STATE: MT
NW_QUAD_CORNER_XY: 647456.93100 4998546.57100
NE_QUAD_CORNER_XY: 652372.15700 4998662.50000
SE_QUAD_CORNERY_XY: 652538.51000 4991719.43500
SW_QUAD_CORNER_XY: 647617.91400 4991603.50500
SECONDARY_NW_QUAD_XY: 647461.29600 4998329.32100
SECONDARY_NE_QUAD_XY: 652376.66700 4998445.25300
SECONDARY_SE_QUAD_XY: 652543.01900 4991502.24300
SECONDARY_SW_QUAD_XY: 647622.27800 4991386.31000
RMSE_XY: 1.46000
IMAGE_SOURCE: BLACK AND WHITE FILM
SOURCE_IMAGE_ID: NAPP 9139 156
SOURCE_IMAGE_DATE: 1996 08 26
SOURCE_IMAGE_ID: NAPP 9139 151
SOURCE_IMAGE_DATE: 1996 08 26
SOURCE_DEM_DATE: 1969 00 00
AGENCY: WESTERN MAPPING CENTER (WMC)
PRODUCER: ANALYTICAL SURVEYS INC.
PRODUCTION_SYSTEM: ORBIT OR_RECTIFY V.5.2
COMPRESSION: UNDEFINED
STANDARD_VERSION: 1996 12
METADATA_DATE: 2000 12 20
DATA_FILE_SIZE: 44415360
BYTE_COUNT: 5760
