FILENAME: O4510810.NWS.1007247.tif
QUADRANGLE_NAME: TWO PINE SCHOOL
QUADRANT: NW
WEST_LONGITUDE: -108 52 30.00000
EAST_LONGITUDE: -108 48 45.00000
NORTH_LATITUDE: 45 52 30.00000
SOUTH_LATITUDE: 45 48 45.00000
PRODUCTION_DATE: 1999 4 9
RASTER_ORDER: LEFT_RIGHT/TOP_BOTTOM
BAND_ORGANIZATION: SINGLE FILE
BAND_CONTENT: BLACK&WHITE
BAND_CONTENT: UNDEFINED
BAND_CONTENT: UNDEFINED
BITS_PER_PIXEL: 8
SAMPLES_AND_LINES: 5698 7686
HORIZONTAL_DATUM: NAD83
HORIZONTAL_COORDINATE_SYSTEM: UTM
COORDINATE_ZONE: 12
HORIZONTAL_UNITS: METERS
HORIZONTAL_RESOLUTION: 1.00000
SECONDARY_HORIZONTAL_DATUM: NAD27
XY_ORIGIN: 664557.00000 5082787.00000
SECONDARY_XY_ORIGIN: 664616.61000 5082576.30700
NATION: US
NATION: "SCIENCE
STATE: MT
NW_QUAD_CORNER_XY: 664912.69800 5082355.00300
NE_QUAD_CORNER_XY: 669763.00300 5082486.09300
SE_QUAD_CORNERY_XY: 669953.29700 5075542.24800
SW_QUAD_CORNER_XY: 665097.55000 5075411.15000
SECONDARY_NW_QUAD_XY: 664917.66000 5082137.18300
SECONDARY_NE_QUAD_XY: 669768.11100 5082268.27700
SECONDARY_SE_QUAD_XY: 669958.40300 5075324.47600
SECONDARY_SW_QUAD_XY: 665102.51000 5075193.37400
RMSE_XY: 2.50000
IMAGE_SOURCE: BLACK AND WHITE FILM
SOURCE_IMAGE_ID: NAPP 9147 008
SOURCE_IMAGE_DATE: 1996 08 24
SOURCE_IMAGE_ID: NAPP 9147 009
SOURCE_IMAGE_DATE: 1996 08 24
SOURCE_IMAGE_ID: NAPP 9147 007
SOURCE_IMAGE_DATE: 1996 08 24
SOURCE_DEM_DATE: 1981 09 00
AGENCY: WESTERN MAPPING CENTER (WMC)
PRODUCER: UNDEFINED
PRODUCTION_SYSTEM: GIS/MAGIC
COMPRESSION: UNDEFINED
STANDARD_VERSION: 1996 12
METADATA_DATE: 1999 04 28
DATA_FILE_SIZE: 43800526
BYTE_COUNT: 5698
