FILENAME: O4510811.SES.1007318.tif
QUADRANGLE_NAME: RIMROCK
QUADRANT: SE
WEST_LONGITUDE: -108 41 15.00000
EAST_LONGITUDE: -108 37 30.00000
NORTH_LATITUDE: 45 48 45.00000
SOUTH_LATITUDE: 45 45 0.00000
PRODUCTION_DATE: 1999 4 12
RASTER_ORDER: LEFT_RIGHT/TOP_BOTTOM
BAND_ORGANIZATION: SINGLE FILE
BAND_CONTENT: BLACK&WHITE
BAND_CONTENT: UNDEFINED
BAND_CONTENT: UNDEFINED
BITS_PER_PIXEL: 8
SAMPLES_AND_LINES: 5719 7697
HORIZONTAL_DATUM: NAD83
HORIZONTAL_COORDINATE_SYSTEM: UTM
COORDINATE_ZONE: 12
HORIZONTAL_UNITS: METERS
HORIZONTAL_RESOLUTION: 1.00000
SECONDARY_HORIZONTAL_DATUM: NAD27
XY_ORIGIN: 679309.00000 5076259.00000
SECONDARY_XY_ORIGIN: 679368.45000 5076048.23100
NATION: US
NATION: "SCIENCE
STATE: MT
NW_QUAD_CORNER_XY: 679664.77400 5075815.85400
NE_QUAD_CORNER_XY: 684520.50400 5075958.36400
SE_QUAD_CORNERY_XY: 684726.90500 5069014.60800
SW_QUAD_CORNER_XY: 679865.73800 5068872.09000
SECONDARY_NW_QUAD_XY: 679670.17200 5075598.09100
SECONDARY_NE_QUAD_XY: 684526.04800 5075740.60500
SECONDARY_SE_QUAD_XY: 684732.44800 5068796.89400
SECONDARY_SW_QUAD_XY: 679871.13500 5068654.37200
RMSE_XY: 1.30000
IMAGE_SOURCE: BLACK AND WHITE FILM
SOURCE_IMAGE_ID: NAPP 9138 291
SOURCE_IMAGE_DATE: 1996 08 23
SOURCE_IMAGE_ID: NAPP 9140 094
SOURCE_IMAGE_DATE: 1996 08 23
SOURCE_IMAGE_ID: NAPP 9138 292
SOURCE_IMAGE_DATE: 1996 08 23
SOURCE_IMAGE_ID: NAPP 9138 240
SOURCE_IMAGE_DATE: 1996 08 23
SOURCE_IMAGE_ID: NAPP 9138 239
SOURCE_IMAGE_DATE: 1996 08 23
SOURCE_DEM_DATE: 1981 08 00
AGENCY: WESTERN MAPPING CENTER (WMC)
PRODUCER: UNDEFINED
PRODUCTION_SYSTEM: GIS/MAGIC
COMPRESSION: UNDEFINED
STANDARD_VERSION: 1996 12
METADATA_DATE: 1999 04 28
DATA_FILE_SIZE: 44024862
BYTE_COUNT: 5719
