FILENAME: O4510812.SWS.1007342.tif
QUADRANGLE_NAME: BILLINGS WEST
QUADRANT: SW
WEST_LONGITUDE: -108 37 30.00000
EAST_LONGITUDE: -108 33 45.00000
NORTH_LATITUDE: 45 48 45.00000
SOUTH_LATITUDE: 45 45 0.00000
PRODUCTION_DATE: 1999 4 12
RASTER_ORDER: LEFT_RIGHT/TOP_BOTTOM
BAND_ORGANIZATION: SINGLE FILE
BAND_CONTENT: BLACK&WHITE
BAND_CONTENT: UNDEFINED
BAND_CONTENT: UNDEFINED
BITS_PER_PIXEL: 8
SAMPLES_AND_LINES: 5725 7700
HORIZONTAL_DATUM: NAD83
HORIZONTAL_COORDINATE_SYSTEM: UTM
COORDINATE_ZONE: 12
HORIZONTAL_UNITS: METERS
HORIZONTAL_RESOLUTION: 1.00000
SECONDARY_HORIZONTAL_DATUM: NAD27
XY_ORIGIN: 684165.00000 5076405.00000
SECONDARY_XY_ORIGIN: 684224.40800 5076194.21200
NATION: US
NATION: "SCIENCE
STATE: MT
NW_QUAD_CORNER_XY: 684520.50400 5075958.36400
NE_QUAD_CORNER_XY: 689376.22700 5076104.67800
SE_QUAD_CORNERY_XY: 689588.06600 5069160.93100
SW_QUAD_CORNER_XY: 684726.90500 5069014.60800
SECONDARY_NW_QUAD_XY: 684526.04800 5075740.60500
SECONDARY_NE_QUAD_XY: 689381.91800 5075886.92300
SECONDARY_SE_QUAD_XY: 689593.75600 5068943.22100
SECONDARY_SW_QUAD_XY: 684732.44800 5068796.89400
RMSE_XY: 1.60000
IMAGE_SOURCE: BLACK AND WHITE FILM
SOURCE_IMAGE_ID: NAPP 9138 032
SOURCE_IMAGE_DATE: 1996 08 23
SOURCE_IMAGE_ID: NAPP 9138 289
SOURCE_IMAGE_DATE: 1996 08 23
SOURCE_IMAGE_ID: NAPP 9138 291
SOURCE_IMAGE_DATE: 1996 08 23
SOURCE_IMAGE_ID: NAPP 9138 293
SOURCE_IMAGE_DATE: 1996 08 23
SOURCE_IMAGE_ID: NAPP 9138 239
SOURCE_IMAGE_DATE: 1996 08 23
SOURCE_DEM_DATE: 1997 01 01
AGENCY: WESTERN MAPPING CENTER (WMC)
PRODUCER: UNDEFINED
PRODUCTION_SYSTEM: GIS/MAGIC
COMPRESSION: UNDEFINED
STANDARD_VERSION: 1996 12
METADATA_DATE: 1999 04 28
DATA_FILE_SIZE: 44088225
BYTE_COUNT: 5725
