FILENAME: O4510813.NES.1007387.tif
QUADRANGLE_NAME: BILLINGS EAST
QUADRANT: NE
WEST_LONGITUDE: -108 26 15.00000
EAST_LONGITUDE: -108 22 30.00000
NORTH_LATITUDE: 45 52 30.00000
SOUTH_LATITUDE: 45 48 45.00000
PRODUCTION_DATE: 1999 4 14
RASTER_ORDER: LEFT_RIGHT/TOP_BOTTOM
BAND_ORGANIZATION: SINGLE FILE
BAND_CONTENT: BLACK&WHITE
BAND_CONTENT: UNDEFINED
BAND_CONTENT: UNDEFINED
BITS_PER_PIXEL: 8
SAMPLES_AND_LINES: 5735 7712
HORIZONTAL_DATUM: NAD83
HORIZONTAL_COORDINATE_SYSTEM: UTM
COORDINATE_ZONE: 12
HORIZONTAL_UNITS: METERS
HORIZONTAL_RESOLUTION: 1.00000
SECONDARY_HORIZONTAL_DATUM: NAD27
XY_ORIGIN: 698510.00000 5083811.00000
SECONDARY_XY_ORIGIN: 698569.26300 5083599.98700
NATION: US
NATION: "SCIENCE
STATE: MT
NW_QUAD_CORNER_XY: 698864.70100 5083352.51200
NE_QUAD_CORNER_XY: 703714.96100 5083510.23100
SE_QUAD_CORNERY_XY: 703943.36000 5076566.45000
SW_QUAD_CORNER_XY: 699087.65600 5076408.72100
SECONDARY_NW_QUAD_XY: 698870.68500 5083134.72200
SECONDARY_NE_QUAD_XY: 703721.09100 5083292.44700
SECONDARY_SE_QUAD_XY: 703949.48900 5076348.71000
SECONDARY_SW_QUAD_XY: 699093.63800 5076190.97500
RMSE_XY: 2.40000
IMAGE_SOURCE: BLACK AND WHITE FILM
SOURCE_IMAGE_ID: NAPP 9137 139
SOURCE_IMAGE_DATE: 1996 08 23
SOURCE_IMAGE_ID: NAPP 9137 137
SOURCE_IMAGE_DATE: 1996 08 23
SOURCE_IMAGE_ID: NAPP 9137 085
SOURCE_IMAGE_DATE: 1996 08 23
SOURCE_DEM_DATE: 1998 00 00
AGENCY: WESTERN MAPPING CENTER (WMC)
PRODUCER: UNDEFINED
PRODUCTION_SYSTEM: GIS/MAGIC
COMPRESSION: UNDEFINED
STANDARD_VERSION: 1996 12
METADATA_DATE: 1999 04 28
DATA_FILE_SIZE: 44234055
BYTE_COUNT: 5735
