FILENAME: O4510817.SES.1007216.tif
QUADRANGLE_NAME: PARK CITY
QUADRANT: SE
WEST_LONGITUDE: -108 56 15.00000
EAST_LONGITUDE: -108 52 30.00000
NORTH_LATITUDE: 45 41 15.00000
SOUTH_LATITUDE: 45 37 30.00000
PRODUCTION_DATE: 1999 3 31
RASTER_ORDER: LEFT_RIGHT/TOP_BOTTOM
BAND_ORGANIZATION: SINGLE FILE
BAND_CONTENT: BLACK&WHITE
BAND_CONTENT: UNDEFINED
BAND_CONTENT: UNDEFINED
BITS_PER_PIXEL: 8
SAMPLES_AND_LINES: 5708 7681
HORIZONTAL_DATUM: NAD83
HORIZONTAL_COORDINATE_SYSTEM: UTM
COORDINATE_ZONE: 12
HORIZONTAL_UNITS: METERS
HORIZONTAL_RESOLUTION: 1.00000
SECONDARY_HORIZONTAL_DATUM: NAD27
XY_ORIGIN: 660244.00000 5061824.00000
SECONDARY_XY_ORIGIN: 660303.65700 5061613.74300
NATION: US
NATION: "SCIENCE
STATE: MT
NW_QUAD_CORNER_XY: 660600.04300 5061396.33200
NE_QUAD_CORNER_XY: 665466.66000 5061523.64100
SE_QUAD_CORNERY_XY: 665650.91900 5054579.98500
SW_QUAD_CORNER_XY: 660778.87700 5054452.67100
SECONDARY_NW_QUAD_XY: 660604.85500 5061178.64300
SECONDARY_NE_QUAD_XY: 665471.61900 5061305.95600
SECONDARY_SE_QUAD_XY: 665655.87600 5054362.34700
SECONDARY_SW_QUAD_XY: 660783.68800 5054235.02800
RMSE_XY: 2.30000
IMAGE_SOURCE: BLACK AND WHITE FILM
SOURCE_IMAGE_ID: NAPP 9147 057
SOURCE_IMAGE_DATE: 1996 08 24
SOURCE_IMAGE_ID: NAPP 9147 055
SOURCE_IMAGE_DATE: 1996 08 24
SOURCE_IMAGE_ID: NAPP 9147 058
SOURCE_IMAGE_DATE: 1996 08 24
SOURCE_DEM_DATE: 1975 07 00
AGENCY: WESTERN MAPPING CENTER (WMC)
PRODUCER: UNDEFINED
PRODUCTION_SYSTEM: GIS/MAGIC
COMPRESSION: UNDEFINED
STANDARD_VERSION: 1996 12
METADATA_DATE: 1999 04 28
DATA_FILE_SIZE: 43848856
BYTE_COUNT: 5708
