FILENAME: O4510818.NES.1007250.tif
QUADRANGLE_NAME: LAUREL
QUADRANT: NE
WEST_LONGITUDE: -108 48 45.00000
EAST_LONGITUDE: -108 45 0.00000
NORTH_LATITUDE: 45 45 0.00000
SOUTH_LATITUDE: 45 41 15.00000
PRODUCTION_DATE: 1999 3 31
RASTER_ORDER: LEFT_RIGHT/TOP_BOTTOM
BAND_ORGANIZATION: SINGLE FILE
BAND_CONTENT: BLACK&WHITE
BAND_CONTENT: UNDEFINED
BAND_CONTENT: UNDEFINED
BITS_PER_PIXEL: 8
SAMPLES_AND_LINES: 5714 7689
HORIZONTAL_DATUM: NAD83
HORIZONTAL_COORDINATE_SYSTEM: UTM
COORDINATE_ZONE: 12
HORIZONTAL_UNITS: METERS
HORIZONTAL_RESOLUTION: 1.00000
SECONDARY_HORIZONTAL_DATUM: NAD27
XY_ORIGIN: 669787.00000 5069034.00000
SECONDARY_XY_ORIGIN: 669846.58400 5068823.50700
NATION: US
NATION: "SCIENCE
STATE: MT
NW_QUAD_CORNER_XY: 670143.38700 5068598.46800
NE_QUAD_CORNER_XY: 675004.56500 5068733.37700
SE_QUAD_CORNERY_XY: 675199.88200 5061789.67000
SW_QUAD_CORNER_XY: 670333.27400 5061654.75300
SECONDARY_NW_QUAD_XY: 670148.49300 5068380.74100
SECONDARY_NE_QUAD_XY: 675009.81600 5068515.65400
SECONDARY_SE_QUAD_XY: 675205.13200 5061571.99300
SECONDARY_SW_QUAD_XY: 670338.37800 5061437.07200
RMSE_XY: 1.20000
IMAGE_SOURCE: BLACK AND WHITE FILM
SOURCE_IMAGE_ID: NAPP 9141 030
SOURCE_IMAGE_DATE: 1996 08 23
SOURCE_IMAGE_ID: NAPP 9147 011
SOURCE_IMAGE_DATE: 1996 08 24
SOURCE_IMAGE_ID: NAPP 9141 032
SOURCE_IMAGE_DATE: 1996 08 23
SOURCE_DEM_DATE: 1975 07 00
AGENCY: WESTERN MAPPING CENTER (WMC)
PRODUCER: UNDEFINED
PRODUCTION_SYSTEM: GIS/MAGIC
COMPRESSION: UNDEFINED
STANDARD_VERSION: 1996 12
METADATA_DATE: 1999 04 28
DATA_FILE_SIZE: 43940660
BYTE_COUNT: 5714
