FILENAME: O4510819.SWS.1007323.tif
QUADRANGLE_NAME: MOSSMAIN
QUADRANT: SW
WEST_LONGITUDE: -108 45 0.00000
EAST_LONGITUDE: -108 41 15.00000
NORTH_LATITUDE: 45 41 15.00000
SOUTH_LATITUDE: 45 37 30.00000
PRODUCTION_DATE: 1999 3 31
RASTER_ORDER: LEFT_RIGHT/TOP_BOTTOM
BAND_ORGANIZATION: SINGLE FILE
BAND_CONTENT: BLACK&WHITE
BAND_CONTENT: UNDEFINED
BAND_CONTENT: UNDEFINED
BITS_PER_PIXEL: 8
SAMPLES_AND_LINES: 5725 7693
HORIZONTAL_DATUM: NAD83
HORIZONTAL_COORDINATE_SYSTEM: UTM
COORDINATE_ZONE: 12
HORIZONTAL_UNITS: METERS
HORIZONTAL_RESOLUTION: 1.00000
SECONDARY_HORIZONTAL_DATUM: NAD27
XY_ORIGIN: 674844.00000 5062229.00000
SECONDARY_XY_ORIGIN: 674903.52200 5062018.44500
NATION: US
NATION: "SCIENCE
STATE: MT
NW_QUAD_CORNER_XY: 675199.88200 5061789.67000
NE_QUAD_CORNER_XY: 680066.48600 5061928.39000
SE_QUAD_CORNERY_XY: 680267.01900 5054984.75400
SW_QUAD_CORNER_XY: 675394.99000 5054846.02700
SECONDARY_NW_QUAD_XY: 675205.13200 5061571.99300
SECONDARY_NE_QUAD_XY: 680071.88200 5061710.71700
SECONDARY_SE_QUAD_XY: 680272.41400 5054767.12800
SECONDARY_SW_QUAD_XY: 675400.23900 5054628.39600
RMSE_XY: 1.80000
IMAGE_SOURCE: BLACK AND WHITE FILM
SOURCE_IMAGE_ID: NAPP 9140 099
SOURCE_IMAGE_DATE: 1996 08 23
SOURCE_IMAGE_ID: NAPP 9141 028
SOURCE_IMAGE_DATE: 1996 08 23
SOURCE_IMAGE_ID: NAPP 9140 100
SOURCE_IMAGE_DATE: 1996 08 23
SOURCE_DEM_DATE: 1981 08 00
AGENCY: WESTERN MAPPING CENTER (WMC)
PRODUCER: UNDEFINED
PRODUCTION_SYSTEM: GIS/MAGIC
COMPRESSION: UNDEFINED
STANDARD_VERSION: 1996 12
METADATA_DATE: 1999 04 28
DATA_FILE_SIZE: 44048150
BYTE_COUNT: 5725
