FILENAME: O4510821.SWS.1007394.tif
QUADRANGLE_NAME: SODA SPRINGS NW
QUADRANT: SW
WEST_LONGITUDE: -108 30 0.00000
EAST_LONGITUDE: -108 26 15.00000
NORTH_LATITUDE: 45 41 15.00000
SOUTH_LATITUDE: 45 37 30.00000
PRODUCTION_DATE: 1999 4 6
RASTER_ORDER: LEFT_RIGHT/TOP_BOTTOM
BAND_ORGANIZATION: SINGLE FILE
BAND_CONTENT: BLACK&WHITE
BAND_CONTENT: UNDEFINED
BAND_CONTENT: UNDEFINED
BITS_PER_PIXEL: 8
SAMPLES_AND_LINES: 5746 7708
HORIZONTAL_DATUM: NAD83
HORIZONTAL_COORDINATE_SYSTEM: UTM
COORDINATE_ZONE: 12
HORIZONTAL_UNITS: METERS
HORIZONTAL_RESOLUTION: 1.00000
SECONDARY_HORIZONTAL_DATUM: NAD27
XY_ORIGIN: 694311.00000 5062822.00000
SECONDARY_XY_ORIGIN: 694370.33600 5062611.33700
NATION: US
NATION: "SCIENCE
STATE: MT
NW_QUAD_CORNER_XY: 694666.26700 5062367.38100
NE_QUAD_CORNER_XY: 699532.85000 5062521.32200
SE_QUAD_CORNERY_XY: 699755.08900 5055577.71500
SW_QUAD_CORNER_XY: 694883.07900 5055423.76600
SECONDARY_NW_QUAD_XY: 694672.10100 5062149.72200
SECONDARY_NE_QUAD_XY: 699538.82900 5062303.66700
SECONDARY_SE_QUAD_XY: 699761.06700 5055360.10600
SECONDARY_SW_QUAD_XY: 694888.91100 5055206.15300
RMSE_XY: 2.70000
IMAGE_SOURCE: BLACK AND WHITE FILM
SOURCE_IMAGE_ID: NAPP 9137 236
SOURCE_IMAGE_DATE: 1996 08 23
SOURCE_IMAGE_ID: NAPP 9137 237
SOURCE_IMAGE_DATE: 1996 08 23
SOURCE_DEM_DATE: 1998 00 00
AGENCY: WESTERN MAPPING CENTER (WMC)
PRODUCER: UNDEFINED
PRODUCTION_SYSTEM: GIS/MAGIC
COMPRESSION: UNDEFINED
STANDARD_VERSION: 1996 12
METADATA_DATE: 1999 04 28
DATA_FILE_SIZE: 44295914
BYTE_COUNT: 5746
