FILENAME: O4510824.SWS.1007027.tif
QUADRANGLE_NAME: NORTH TELEGRAPH CREEK
QUADRANT: SW
WEST_LONGITUDE: -108 7 30.00000
EAST_LONGITUDE: -108 3 45.00000
NORTH_LATITUDE: 45 41 15.00000
SOUTH_LATITUDE: 45 37 30.00000
PRODUCTION_DATE: 1999 4 14
RASTER_ORDER: LEFT_RIGHT/TOP_BOTTOM
BAND_ORGANIZATION: SINGLE FILE
BAND_CONTENT: BLACK&WHITE
BAND_CONTENT: UNDEFINED
BAND_CONTENT: UNDEFINED
BITS_PER_PIXEL: 8
SAMPLES_AND_LINES: 5777 7730
HORIZONTAL_DATUM: NAD83
HORIZONTAL_COORDINATE_SYSTEM: UTM
COORDINATE_ZONE: 12
HORIZONTAL_UNITS: METERS
HORIZONTAL_RESOLUTION: 1.00000
SECONDARY_HORIZONTAL_DATUM: NAD27
XY_ORIGIN: 723512.00000 5063825.00000
SECONDARY_XY_ORIGIN: 723571.36600 5063614.09100
NATION: US
NATION: "SCIENCE
STATE: MT
NW_QUAD_CORNER_XY: 723865.67800 5063348.12600
NE_QUAD_CORNER_XY: 728732.22600 5063524.90800
SE_QUAD_CORNERY_XY: 728987.03900 5056581.35000
SW_QUAD_CORNER_XY: 724115.06100 5056404.55800
SECONDARY_NW_QUAD_XY: 723872.38800 5063130.49500
SECONDARY_NE_QUAD_XY: 728739.08100 5063307.28300
SECONDARY_SE_QUAD_XY: 728993.89300 5056363.77100
SECONDARY_SW_QUAD_XY: 724121.76900 5056186.97500
RMSE_XY: 1.30000
IMAGE_SOURCE: BLACK AND WHITE FILM
SOURCE_IMAGE_ID: NAPP 9142 260
SOURCE_IMAGE_DATE: 1996 08 24
SOURCE_IMAGE_ID: NAPP 9142 259
SOURCE_IMAGE_DATE: 1996 08 24
SOURCE_DEM_DATE: 1998 00 00
AGENCY: WESTERN MAPPING CENTER (WMC)
PRODUCER: UNDEFINED
PRODUCTION_SYSTEM: GIS/MAGIC
COMPRESSION: UNDEFINED
STANDARD_VERSION: 1996 12
METADATA_DATE: 1999 04 28
DATA_FILE_SIZE: 44661987
BYTE_COUNT: 5777
