FILENAME: O4510825.NWS.1007219.tif
QUADRANGLE_NAME: MONTAQUA
QUADRANT: NW
WEST_LONGITUDE: -109 0 0.00000
EAST_LONGITUDE: -108 56 15.00000
NORTH_LATITUDE: 45 37 30.00000
SOUTH_LATITUDE: 45 33 45.00000
PRODUCTION_DATE: 1999 4 2
RASTER_ORDER: LEFT_RIGHT/TOP_BOTTOM
BAND_ORGANIZATION: SINGLE FILE
BAND_CONTENT: BLACK&WHITE
BAND_CONTENT: UNDEFINED
BAND_CONTENT: UNDEFINED
BITS_PER_PIXEL: 8
SAMPLES_AND_LINES: 5709 7677
HORIZONTAL_DATUM: NAD83
HORIZONTAL_COORDINATE_SYSTEM: UTM
COORDINATE_ZONE: 12
HORIZONTAL_UNITS: METERS
HORIZONTAL_RESOLUTION: 1.00000
SECONDARY_HORIZONTAL_DATUM: NAD27
XY_ORIGIN: 655550.00000 5054753.00000
SECONDARY_XY_ORIGIN: 655609.69200 5054542.83400
NATION: US
NATION: "SCIENCE
STATE: MT
NW_QUAD_CORNER_XY: 655906.83100 5054329.15900
NE_QUAD_CORNER_XY: 660778.87700 5054452.67100
SE_QUAD_CORNERY_XY: 660957.51900 5047509.07500
SW_QUAD_CORNER_XY: 656080.05500 5047385.55900
SECONDARY_NW_QUAD_XY: 655911.49700 5054111.51400
SECONDARY_NE_QUAD_XY: 660783.68800 5054235.02800
SECONDARY_SE_QUAD_XY: 660962.32900 5047291.48100
SECONDARY_SW_QUAD_XY: 656084.72000 5047167.96000
RMSE_XY: 3.50000
IMAGE_SOURCE: BLACK AND WHITE FILM
SOURCE_IMAGE_ID: NAPP 9147 276
SOURCE_IMAGE_DATE: 1996 08 24
SOURCE_IMAGE_ID: NAPP 9147 275
SOURCE_IMAGE_DATE: 1996 08 24
SOURCE_DEM_DATE: 1998 00 00
AGENCY: WESTERN MAPPING CENTER (WMC)
PRODUCER: UNDEFINED
PRODUCTION_SYSTEM: GIS/MAGIC
COMPRESSION: UNDEFINED
STANDARD_VERSION: 1996 12
METADATA_DATE: 1999 04 28
DATA_FILE_SIZE: 43833702
BYTE_COUNT: 5709
