FILENAME: O4510826.NWS.1007255.tif
QUADRANGLE_NAME: SILESIA
QUADRANT: NW
WEST_LONGITUDE: -108 52 30.00000
EAST_LONGITUDE: -108 48 45.00000
NORTH_LATITUDE: 45 37 30.00000
SOUTH_LATITUDE: 45 33 45.00000
PRODUCTION_DATE: 1999 4 2
RASTER_ORDER: LEFT_RIGHT/TOP_BOTTOM
BAND_ORGANIZATION: SINGLE FILE
BAND_CONTENT: BLACK&WHITE
BAND_CONTENT: UNDEFINED
BAND_CONTENT: UNDEFINED
BITS_PER_PIXEL: 8
SAMPLES_AND_LINES: 5719 7685
HORIZONTAL_DATUM: NAD83
HORIZONTAL_COORDINATE_SYSTEM: UTM
COORDINATE_ZONE: 12
HORIZONTAL_UNITS: METERS
HORIZONTAL_RESOLUTION: 1.00000
SECONDARY_HORIZONTAL_DATUM: NAD27
XY_ORIGIN: 665295.00000 5055012.00000
SECONDARY_XY_ORIGIN: 665354.59700 5054801.66400
NATION: US
NATION: "SCIENCE
STATE: MT
NW_QUAD_CORNER_XY: 665650.91900 5054579.98500
NE_QUAD_CORNER_XY: 670522.95700 5054711.10400
SE_QUAD_CORNERY_XY: 670712.43500 5047767.52000
SW_QUAD_CORNER_XY: 665834.97900 5047636.39600
SECONDARY_NW_QUAD_XY: 665655.87600 5054362.34700
SECONDARY_NE_QUAD_XY: 670528.06000 5054493.46900
SECONDARY_SE_QUAD_XY: 670717.53700 5047549.93300
SECONDARY_SW_QUAD_XY: 665839.93500 5047418.80500
RMSE_XY: 1.80000
IMAGE_SOURCE: BLACK AND WHITE FILM
SOURCE_IMAGE_ID: NAPP 9147 016
SOURCE_IMAGE_DATE: 1996 08 24
SOURCE_IMAGE_ID: NAPP 9147 017
SOURCE_IMAGE_DATE: 1996 08 24
SOURCE_DEM_DATE: 1998 00 00
AGENCY: WESTERN MAPPING CENTER (WMC)
PRODUCER: UNDEFINED
PRODUCTION_SYSTEM: GIS/MAGIC
COMPRESSION: UNDEFINED
STANDARD_VERSION: 1996 12
METADATA_DATE: 1999 04 28
DATA_FILE_SIZE: 43956234
BYTE_COUNT: 5719
