FILENAME: O4510827.SWS.1007281.tif
QUADRANGLE_NAME: MOSSMAIN SW
QUADRANT: SW
WEST_LONGITUDE: -108 45 0.00000
EAST_LONGITUDE: -108 41 15.00000
NORTH_LATITUDE: 45 33 45.00000
SOUTH_LATITUDE: 45 30 0.00000
PRODUCTION_DATE: 1999 4 2
RASTER_ORDER: LEFT_RIGHT/TOP_BOTTOM
BAND_ORGANIZATION: SINGLE FILE
BAND_CONTENT: BLACK&WHITE
BAND_CONTENT: UNDEFINED
BAND_CONTENT: UNDEFINED
BITS_PER_PIXEL: 8
SAMPLES_AND_LINES: 5735 7693
HORIZONTAL_DATUM: NAD83
HORIZONTAL_COORDINATE_SYSTEM: UTM
COORDINATE_ZONE: 12
HORIZONTAL_UNITS: METERS
HORIZONTAL_RESOLUTION: 1.00000
SECONDARY_HORIZONTAL_DATUM: NAD27
XY_ORIGIN: 675234.00000 5048342.00000
SECONDARY_XY_ORIGIN: 675293.48400 5048131.55000
NATION: US
NATION: "SCIENCE
STATE: MT
NW_QUAD_CORNER_XY: 675589.88800 5047902.44800
NE_QUAD_CORNER_XY: 680467.33600 5048041.18200
SE_QUAD_CORNERY_XY: 680667.43800 5041097.67300
SW_QUAD_CORNER_XY: 675784.57500 5040958.93500
SECONDARY_NW_QUAD_XY: 675595.13500 5047684.86500
SECONDARY_NE_QUAD_XY: 680472.73000 5047823.60300
SECONDARY_SE_QUAD_XY: 680672.83000 5040880.14300
SECONDARY_SW_QUAD_XY: 675789.82200 5040741.40000
RMSE_XY: 1.80000
IMAGE_SOURCE: BLACK AND WHITE FILM
SOURCE_IMAGE_ID: NAPP 9140 103
SOURCE_IMAGE_DATE: 1996 08 23
SOURCE_IMAGE_ID: NAPP 9140 104
SOURCE_IMAGE_DATE: 1996 08 23
SOURCE_IMAGE_ID: NAPP 9140 102
SOURCE_IMAGE_DATE: 1996 08 23
SOURCE_DEM_DATE: 1998 00 00
AGENCY: WESTERN MAPPING CENTER (WMC)
PRODUCER: UNDEFINED
PRODUCTION_SYSTEM: GIS/MAGIC
COMPRESSION: UNDEFINED
STANDARD_VERSION: 1996 12
METADATA_DATE: 1999 04 28
DATA_FILE_SIZE: 44125090
BYTE_COUNT: 5735
