FILENAME: O4510827.SES.1007280.tif
QUADRANGLE_NAME: MOSSMAIN SW
QUADRANT: SE
WEST_LONGITUDE: -108 41 15.00000
EAST_LONGITUDE: -108 37 30.00000
NORTH_LATITUDE: 45 33 45.00000
SOUTH_LATITUDE: 45 30 0.00000
PRODUCTION_DATE: 1999 4 2
RASTER_ORDER: LEFT_RIGHT/TOP_BOTTOM
BAND_ORGANIZATION: SINGLE FILE
BAND_CONTENT: BLACK&WHITE
BAND_CONTENT: UNDEFINED
BAND_CONTENT: UNDEFINED
BITS_PER_PIXEL: 8
SAMPLES_AND_LINES: 5740 7696
HORIZONTAL_DATUM: NAD83
HORIZONTAL_COORDINATE_SYSTEM: UTM
COORDINATE_ZONE: 12
HORIZONTAL_UNITS: METERS
HORIZONTAL_RESOLUTION: 1.00000
SECONDARY_HORIZONTAL_DATUM: NAD27
XY_ORIGIN: 680112.00000 5048484.00000
SECONDARY_XY_ORIGIN: 680171.43700 5048273.50200
NATION: US
NATION: "SCIENCE
STATE: MT
NW_QUAD_CORNER_XY: 680467.33600 5048041.18200
NE_QUAD_CORNER_XY: 685344.78100 5048183.72000
SE_QUAD_CORNERY_XY: 685550.29600 5041240.21700
SW_QUAD_CORNER_XY: 680667.43800 5041097.67300
SECONDARY_NW_QUAD_XY: 680472.73000 5047823.60300
SECONDARY_NE_QUAD_XY: 685350.32000 5047966.14500
SECONDARY_SE_QUAD_XY: 685555.83400 5041022.69100
SECONDARY_SW_QUAD_XY: 680672.83000 5040880.14300
RMSE_XY: 2.00000
IMAGE_SOURCE: BLACK AND WHITE FILM
SOURCE_IMAGE_ID: NAPP 9138 283
SOURCE_IMAGE_DATE: 1996 08 23
SOURCE_IMAGE_ID: NAPP 9140 104
SOURCE_IMAGE_DATE: 1996 08 23
SOURCE_IMAGE_ID: NAPP 9138 282
SOURCE_IMAGE_DATE: 1996 08 23
SOURCE_IMAGE_ID: NAPP 9138 284
SOURCE_IMAGE_DATE: 1996 08 23
SOURCE_IMAGE_ID: NAPP 9138 248
SOURCE_IMAGE_DATE: 1996 08 23
SOURCE_DEM_DATE: 1998 00 00
AGENCY: WESTERN MAPPING CENTER (WMC)
PRODUCER: UNDEFINED
PRODUCTION_SYSTEM: GIS/MAGIC
COMPRESSION: UNDEFINED
STANDARD_VERSION: 1996 12
METADATA_DATE: 1999 04 28
DATA_FILE_SIZE: 44180780
BYTE_COUNT: 5740
